BEGIN:VCALENDAR
VERSION:2.0
PRODID:-//Nantes Gigant Bad - ECPv6.15.20//NONSGML v1.0//EN
CALSCALE:GREGORIAN
METHOD:PUBLISH
X-WR-CALNAME:Nantes Gigant Bad
X-ORIGINAL-URL:https://ngb44.com
X-WR-CALDESC:Évènements pour Nantes Gigant Bad
REFRESH-INTERVAL;VALUE=DURATION:PT1H
X-Robots-Tag:noindex
X-PUBLISHED-TTL:PT1H
BEGIN:VTIMEZONE
TZID:Europe/Paris
BEGIN:DAYLIGHT
TZOFFSETFROM:+0100
TZOFFSETTO:+0200
TZNAME:CEST
DTSTART:20210328T010000
END:DAYLIGHT
BEGIN:STANDARD
TZOFFSETFROM:+0200
TZOFFSETTO:+0100
TZNAME:CET
DTSTART:20211031T010000
END:STANDARD
BEGIN:DAYLIGHT
TZOFFSETFROM:+0100
TZOFFSETTO:+0200
TZNAME:CEST
DTSTART:20220327T010000
END:DAYLIGHT
BEGIN:STANDARD
TZOFFSETFROM:+0200
TZOFFSETTO:+0100
TZNAME:CET
DTSTART:20221030T010000
END:STANDARD
BEGIN:DAYLIGHT
TZOFFSETFROM:+0100
TZOFFSETTO:+0200
TZNAME:CEST
DTSTART:20230326T010000
END:DAYLIGHT
BEGIN:STANDARD
TZOFFSETFROM:+0200
TZOFFSETTO:+0100
TZNAME:CET
DTSTART:20231029T010000
END:STANDARD
END:VTIMEZONE
BEGIN:VEVENT
DTSTART;TZID=Europe/Paris:20221206T000000
DTEND;TZID=Europe/Paris:20221206T000000
DTSTAMP:20260424T055252
CREATED:20251017T162207Z
LAST-MODIFIED:20251017T171906Z
UID:2059-1670284800-1670284800@ngb44.com
SUMMARY:NGB-1H vs LLN-1H
DESCRIPTION:
URL:https://ngb44.com/event/ngb-1h-vs-lln-1h/
CATEGORIES:NGB-1H
END:VEVENT
BEGIN:VEVENT
DTSTART;TZID=Europe/Paris:20221206T000000
DTEND;TZID=Europe/Paris:20221206T000000
DTSTAMP:20260424T055252
CREATED:20251017T162219Z
LAST-MODIFIED:20251017T171921Z
UID:2060-1670284800-1670284800@ngb44.com
SUMMARY:NGB-2H vs ASMBC-1H
DESCRIPTION:
URL:https://ngb44.com/event/ngb-2h-vs-asmbc-1h/
CATEGORIES:NGB-2H
END:VEVENT
BEGIN:VEVENT
DTSTART;TZID=Europe/Paris:20221206T000000
DTEND;TZID=Europe/Paris:20221206T000000
DTSTAMP:20260424T055252
CREATED:20251017T162219Z
LAST-MODIFIED:20251017T171921Z
UID:2061-1670284800-1670284800@ngb44.com
SUMMARY:Réservé interclub
DESCRIPTION:
URL:https://ngb44.com/event/reserve-interclub-4/
CATEGORIES:Gymnase indisponible
END:VEVENT
BEGIN:VEVENT
DTSTART;TZID=Europe/Paris:20221216T000000
DTEND;TZID=Europe/Paris:20221216T000000
DTSTAMP:20260424T055252
CREATED:20251017T162219Z
LAST-MODIFIED:20251017T171921Z
UID:2062-1671148800-1671148800@ngb44.com
SUMMARY:BCC-2S vs NGB-1S
DESCRIPTION:
URL:https://ngb44.com/event/bcc-2s-vs-ngb-1s/
CATEGORIES:NGB-1S
END:VEVENT
BEGIN:VEVENT
DTSTART;TZID=Europe/Paris:20221226T000000
DTEND;TZID=Europe/Paris:20221226T000000
DTSTAMP:20260424T055252
CREATED:20251017T162219Z
LAST-MODIFIED:20251017T171921Z
UID:2063-1672012800-1672012800@ngb44.com
SUMMARY:Gymnase fermé
DESCRIPTION:
URL:https://ngb44.com/event/gymnase-ferme/
CATEGORIES:Gymnase indisponible
END:VEVENT
BEGIN:VEVENT
DTSTART;TZID=Europe/Paris:20221227T000000
DTEND;TZID=Europe/Paris:20221227T000000
DTSTAMP:20260424T055252
CREATED:20251017T162219Z
LAST-MODIFIED:20251017T171921Z
UID:2064-1672099200-1672099200@ngb44.com
SUMMARY:Gymnase fermé
DESCRIPTION:
URL:https://ngb44.com/event/gymnase-ferme-2/
CATEGORIES:Gymnase indisponible
END:VEVENT
BEGIN:VEVENT
DTSTART;TZID=Europe/Paris:20221229T000000
DTEND;TZID=Europe/Paris:20221229T000000
DTSTAMP:20260424T055252
CREATED:20251017T162222Z
LAST-MODIFIED:20251017T171936Z
UID:2065-1672272000-1672272000@ngb44.com
SUMMARY:Gymnase fermé
DESCRIPTION:
URL:https://ngb44.com/event/gymnase-ferme-3/
CATEGORIES:Gymnase indisponible
END:VEVENT
END:VCALENDAR