BEGIN:VCALENDAR
VERSION:2.0
PRODID:-//Nantes Gigant Bad - ECPv6.15.20//NONSGML v1.0//EN
CALSCALE:GREGORIAN
METHOD:PUBLISH
X-WR-CALNAME:Nantes Gigant Bad
X-ORIGINAL-URL:https://ngb44.com
X-WR-CALDESC:Évènements pour Nantes Gigant Bad
REFRESH-INTERVAL;VALUE=DURATION:PT1H
X-Robots-Tag:noindex
X-PUBLISHED-TTL:PT1H
BEGIN:VTIMEZONE
TZID:Europe/Paris
BEGIN:DAYLIGHT
TZOFFSETFROM:+0100
TZOFFSETTO:+0200
TZNAME:CEST
DTSTART:20220327T010000
END:DAYLIGHT
BEGIN:STANDARD
TZOFFSETFROM:+0200
TZOFFSETTO:+0100
TZNAME:CET
DTSTART:20221030T010000
END:STANDARD
BEGIN:DAYLIGHT
TZOFFSETFROM:+0100
TZOFFSETTO:+0200
TZNAME:CEST
DTSTART:20230326T010000
END:DAYLIGHT
BEGIN:STANDARD
TZOFFSETFROM:+0200
TZOFFSETTO:+0100
TZNAME:CET
DTSTART:20231029T010000
END:STANDARD
BEGIN:DAYLIGHT
TZOFFSETFROM:+0100
TZOFFSETTO:+0200
TZNAME:CEST
DTSTART:20240331T010000
END:DAYLIGHT
BEGIN:STANDARD
TZOFFSETFROM:+0200
TZOFFSETTO:+0100
TZNAME:CET
DTSTART:20241027T010000
END:STANDARD
END:VTIMEZONE
BEGIN:VEVENT
DTSTART;TZID=Europe/Paris:20230102T000000
DTEND;TZID=Europe/Paris:20230102T000000
DTSTAMP:20260424T042343
CREATED:20251017T162222Z
LAST-MODIFIED:20251017T171936Z
UID:2066-1672617600-1672617600@ngb44.com
SUMMARY:Pas de créneau – désolé
DESCRIPTION:
URL:https://ngb44.com/event/pas-de-creneau-desole/
CATEGORIES:Gymnase indisponible
END:VEVENT
BEGIN:VEVENT
DTSTART;TZID=Europe/Paris:20230105T000000
DTEND;TZID=Europe/Paris:20230105T000000
DTSTAMP:20260424T042343
CREATED:20251017T162222Z
LAST-MODIFIED:20251017T171936Z
UID:2067-1672876800-1672876800@ngb44.com
SUMMARY:NGB-2S vs BASL-4S
DESCRIPTION:
URL:https://ngb44.com/event/ngb-2s-vs-basl-4s/
CATEGORIES:NGB-2S
END:VEVENT
BEGIN:VEVENT
DTSTART;TZID=Europe/Paris:20230105T000000
DTEND;TZID=Europe/Paris:20230105T000000
DTSTAMP:20260424T042343
CREATED:20251017T162222Z
LAST-MODIFIED:20251017T171936Z
UID:2068-1672876800-1672876800@ngb44.com
SUMMARY:Réservé interclub
DESCRIPTION:
URL:https://ngb44.com/event/reserve-interclub-5/
CATEGORIES:Gymnase indisponible
END:VEVENT
BEGIN:VEVENT
DTSTART;TZID=Europe/Paris:20230109T000000
DTEND;TZID=Europe/Paris:20230109T000000
DTSTAMP:20260424T042343
CREATED:20251017T162222Z
LAST-MODIFIED:20251017T171936Z
UID:2069-1673222400-1673222400@ngb44.com
SUMMARY:BASL-1H vs NGB-1H
DESCRIPTION:
URL:https://ngb44.com/event/basl-1h-vs-ngb-1h/
CATEGORIES:NGB-1H
END:VEVENT
BEGIN:VEVENT
DTSTART;TZID=Europe/Paris:20230110T000000
DTEND;TZID=Europe/Paris:20230110T000000
DTSTAMP:20260424T042343
CREATED:20251017T162236Z
LAST-MODIFIED:20251017T171951Z
UID:2070-1673308800-1673308800@ngb44.com
SUMMARY:NGB-2H vs ABCL-1H
DESCRIPTION:
URL:https://ngb44.com/event/ngb-2h-vs-abcl-1h/
CATEGORIES:NGB-2H
END:VEVENT
BEGIN:VEVENT
DTSTART;TZID=Europe/Paris:20230110T000000
DTEND;TZID=Europe/Paris:20230110T000000
DTSTAMP:20260424T042343
CREATED:20251017T162236Z
LAST-MODIFIED:20251017T171951Z
UID:2071-1673308800-1673308800@ngb44.com
SUMMARY:Réservé interclub
DESCRIPTION:
URL:https://ngb44.com/event/reserve-interclub-6/
CATEGORIES:Gymnase indisponible
END:VEVENT
BEGIN:VEVENT
DTSTART;TZID=Europe/Paris:20230126T000000
DTEND;TZID=Europe/Paris:20230126T000000
DTSTAMP:20260424T042343
CREATED:20251017T162237Z
LAST-MODIFIED:20251017T171951Z
UID:2072-1674691200-1674691200@ngb44.com
SUMMARY:NGB-1S vs CBC-4S
DESCRIPTION:
URL:https://ngb44.com/event/ngb-1s-vs-cbc-4s/
CATEGORIES:NGB-1S
END:VEVENT
BEGIN:VEVENT
DTSTART;TZID=Europe/Paris:20230126T000000
DTEND;TZID=Europe/Paris:20230126T000000
DTSTAMP:20260424T042343
CREATED:20251017T162237Z
LAST-MODIFIED:20251017T171951Z
UID:2073-1674691200-1674691200@ngb44.com
SUMMARY:Réservé interclub
DESCRIPTION:
URL:https://ngb44.com/event/reserve-interclub-7/
CATEGORIES:Gymnase indisponible
END:VEVENT
END:VCALENDAR