BEGIN:VCALENDAR
VERSION:2.0
PRODID:-//Nantes Gigant Bad - ECPv6.15.20//NONSGML v1.0//EN
CALSCALE:GREGORIAN
METHOD:PUBLISH
X-WR-CALNAME:Nantes Gigant Bad
X-ORIGINAL-URL:https://ngb44.com
X-WR-CALDESC:Évènements pour Nantes Gigant Bad
REFRESH-INTERVAL;VALUE=DURATION:PT1H
X-Robots-Tag:noindex
X-PUBLISHED-TTL:PT1H
BEGIN:VTIMEZONE
TZID:Europe/Paris
BEGIN:DAYLIGHT
TZOFFSETFROM:+0100
TZOFFSETTO:+0200
TZNAME:CEST
DTSTART:20220327T010000
END:DAYLIGHT
BEGIN:STANDARD
TZOFFSETFROM:+0200
TZOFFSETTO:+0100
TZNAME:CET
DTSTART:20221030T010000
END:STANDARD
BEGIN:DAYLIGHT
TZOFFSETFROM:+0100
TZOFFSETTO:+0200
TZNAME:CEST
DTSTART:20230326T010000
END:DAYLIGHT
BEGIN:STANDARD
TZOFFSETFROM:+0200
TZOFFSETTO:+0100
TZNAME:CET
DTSTART:20231029T010000
END:STANDARD
BEGIN:DAYLIGHT
TZOFFSETFROM:+0100
TZOFFSETTO:+0200
TZNAME:CEST
DTSTART:20240331T010000
END:DAYLIGHT
BEGIN:STANDARD
TZOFFSETFROM:+0200
TZOFFSETTO:+0100
TZNAME:CET
DTSTART:20241027T010000
END:STANDARD
END:VTIMEZONE
BEGIN:VEVENT
DTSTART;TZID=Europe/Paris:20230202T000000
DTEND;TZID=Europe/Paris:20230202T000000
DTSTAMP:20260424T023339
CREATED:20251017T162237Z
LAST-MODIFIED:20251017T171951Z
UID:2074-1675296000-1675296000@ngb44.com
SUMMARY:NGB-1H vs NECB-2H
DESCRIPTION:
URL:https://ngb44.com/event/ngb-1h-vs-necb-2h/
CATEGORIES:NGB-1H
END:VEVENT
BEGIN:VEVENT
DTSTART;TZID=Europe/Paris:20230202T000000
DTEND;TZID=Europe/Paris:20230202T000000
DTSTAMP:20260424T023339
CREATED:20251017T162252Z
LAST-MODIFIED:20251017T172006Z
UID:2075-1675296000-1675296000@ngb44.com
SUMMARY:RACC-3S vs NGB-2S
DESCRIPTION:
URL:https://ngb44.com/event/racc-3s-vs-ngb-2s/
CATEGORIES:NGB-2S
END:VEVENT
BEGIN:VEVENT
DTSTART;TZID=Europe/Paris:20230202T000000
DTEND;TZID=Europe/Paris:20230202T000000
DTSTAMP:20260424T023339
CREATED:20251017T162252Z
LAST-MODIFIED:20251017T172006Z
UID:2076-1675296000-1675296000@ngb44.com
SUMMARY:Réservé interclub
DESCRIPTION:
URL:https://ngb44.com/event/reserve-interclub-8/
CATEGORIES:Gymnase indisponible
END:VEVENT
BEGIN:VEVENT
DTSTART;TZID=Europe/Paris:20230203T000000
DTEND;TZID=Europe/Paris:20230203T000000
DTSTAMP:20260424T023339
CREATED:20251017T162252Z
LAST-MODIFIED:20251017T172006Z
UID:2077-1675382400-1675382400@ngb44.com
SUMMARY:BCC-2H vs NGB-2H
DESCRIPTION:
URL:https://ngb44.com/event/bcc-2h-vs-ngb-2h/
CATEGORIES:NGB-2H
END:VEVENT
BEGIN:VEVENT
DTSTART;TZID=Europe/Paris:20230216T000000
DTEND;TZID=Europe/Paris:20230216T000000
DTSTAMP:20260424T023339
CREATED:20251017T162252Z
LAST-MODIFIED:20251017T172006Z
UID:2078-1676505600-1676505600@ngb44.com
SUMMARY:NGB-1S vs ASBG-1S
DESCRIPTION:
URL:https://ngb44.com/event/ngb-1s-vs-asbg-1s/
CATEGORIES:NGB-1S
END:VEVENT
BEGIN:VEVENT
DTSTART;TZID=Europe/Paris:20230216T000000
DTEND;TZID=Europe/Paris:20230216T000000
DTSTAMP:20260424T023339
CREATED:20251017T162253Z
LAST-MODIFIED:20251017T172006Z
UID:2079-1676505600-1676505600@ngb44.com
SUMMARY:Réservé interclub
DESCRIPTION:
URL:https://ngb44.com/event/reserve-interclub-9/
CATEGORIES:Gymnase indisponible
END:VEVENT
BEGIN:VEVENT
DTSTART;TZID=Europe/Paris:20230228T000000
DTEND;TZID=Europe/Paris:20230228T000000
DTSTAMP:20260424T023339
CREATED:20251017T162254Z
LAST-MODIFIED:20251017T172021Z
UID:2080-1677542400-1677542400@ngb44.com
SUMMARY:NGB-2S vs B2S-2S
DESCRIPTION:
URL:https://ngb44.com/event/ngb-2s-vs-b2s-2s/
CATEGORIES:NGB-2S
END:VEVENT
BEGIN:VEVENT
DTSTART;TZID=Europe/Paris:20230228T000000
DTEND;TZID=Europe/Paris:20230228T000000
DTSTAMP:20260424T023339
CREATED:20251017T162254Z
LAST-MODIFIED:20251017T172021Z
UID:2081-1677542400-1677542400@ngb44.com
SUMMARY:Réservé interclub
DESCRIPTION:
URL:https://ngb44.com/event/reserve-interclub-10/
CATEGORIES:Gymnase indisponible
END:VEVENT
END:VCALENDAR