BEGIN:VCALENDAR
VERSION:2.0
PRODID:-//Nantes Gigant Bad - ECPv6.15.20//NONSGML v1.0//EN
CALSCALE:GREGORIAN
METHOD:PUBLISH
X-WR-CALNAME:Nantes Gigant Bad
X-ORIGINAL-URL:https://ngb44.com
X-WR-CALDESC:Évènements pour Nantes Gigant Bad
REFRESH-INTERVAL;VALUE=DURATION:PT1H
X-Robots-Tag:noindex
X-PUBLISHED-TTL:PT1H
BEGIN:VTIMEZONE
TZID:Europe/Paris
BEGIN:DAYLIGHT
TZOFFSETFROM:+0100
TZOFFSETTO:+0200
TZNAME:CEST
DTSTART:20220327T010000
END:DAYLIGHT
BEGIN:STANDARD
TZOFFSETFROM:+0200
TZOFFSETTO:+0100
TZNAME:CET
DTSTART:20221030T010000
END:STANDARD
BEGIN:DAYLIGHT
TZOFFSETFROM:+0100
TZOFFSETTO:+0200
TZNAME:CEST
DTSTART:20230326T010000
END:DAYLIGHT
BEGIN:STANDARD
TZOFFSETFROM:+0200
TZOFFSETTO:+0100
TZNAME:CET
DTSTART:20231029T010000
END:STANDARD
BEGIN:DAYLIGHT
TZOFFSETFROM:+0100
TZOFFSETTO:+0200
TZNAME:CEST
DTSTART:20240331T010000
END:DAYLIGHT
BEGIN:STANDARD
TZOFFSETFROM:+0200
TZOFFSETTO:+0100
TZNAME:CET
DTSTART:20241027T010000
END:STANDARD
END:VTIMEZONE
BEGIN:VEVENT
DTSTART;TZID=Europe/Paris:20230302T000000
DTEND;TZID=Europe/Paris:20230302T000000
DTSTAMP:20260424T010013
CREATED:20251017T162255Z
LAST-MODIFIED:20251017T172021Z
UID:2082-1677715200-1677715200@ngb44.com
SUMMARY:ALBBG-1H vs NGB-2H
DESCRIPTION:
URL:https://ngb44.com/event/albbg-1h-vs-ngb-2h/
CATEGORIES:NGB-2H
END:VEVENT
BEGIN:VEVENT
DTSTART;TZID=Europe/Paris:20230307T000000
DTEND;TZID=Europe/Paris:20230307T000000
DTSTAMP:20260424T010013
CREATED:20251017T162255Z
LAST-MODIFIED:20251017T172021Z
UID:2083-1678147200-1678147200@ngb44.com
SUMMARY:NGB-1H vs DBBN-1H
DESCRIPTION:
URL:https://ngb44.com/event/ngb-1h-vs-dbbn-1h/
CATEGORIES:NGB-1H
END:VEVENT
BEGIN:VEVENT
DTSTART;TZID=Europe/Paris:20230307T000000
DTEND;TZID=Europe/Paris:20230307T000000
DTSTAMP:20260424T010013
CREATED:20251017T162255Z
LAST-MODIFIED:20251017T172021Z
UID:2084-1678147200-1678147200@ngb44.com
SUMMARY:Réservé interclub
DESCRIPTION:
URL:https://ngb44.com/event/reserve-interclub-11/
CATEGORIES:Gymnase indisponible
END:VEVENT
BEGIN:VEVENT
DTSTART;TZID=Europe/Paris:20230323T000000
DTEND;TZID=Europe/Paris:20230323T000000
DTSTAMP:20260424T010013
CREATED:20251017T162306Z
LAST-MODIFIED:20251017T172036Z
UID:2085-1679529600-1679529600@ngb44.com
SUMMARY:ALBBG-4S vs NGB-1S
DESCRIPTION:
URL:https://ngb44.com/event/albbg-4s-vs-ngb-1s/
CATEGORIES:NGB-1S
END:VEVENT
BEGIN:VEVENT
DTSTART;TZID=Europe/Paris:20230324T000000
DTEND;TZID=Europe/Paris:20230324T000000
DTSTAMP:20260424T010013
CREATED:20251017T162307Z
LAST-MODIFIED:20251017T172036Z
UID:2086-1679616000-1679616000@ngb44.com
SUMMARY:ASBL-4S vs NGB-2S
DESCRIPTION:
URL:https://ngb44.com/event/asbl-4s-vs-ngb-2s/
CATEGORIES:NGB-2S
END:VEVENT
BEGIN:VEVENT
DTSTART;TZID=Europe/Paris:20230331T000000
DTEND;TZID=Europe/Paris:20230331T000000
DTSTAMP:20260424T010013
CREATED:20251017T162307Z
LAST-MODIFIED:20251017T172036Z
UID:2087-1680220800-1680220800@ngb44.com
SUMMARY:BCC-1H vs NGB-1H
DESCRIPTION:
URL:https://ngb44.com/event/bcc-1h-vs-ngb-1h/
CATEGORIES:NGB-1H
END:VEVENT
END:VCALENDAR