BEGIN:VCALENDAR
VERSION:2.0
PRODID:-//Nantes Gigant Bad - ECPv6.15.20//NONSGML v1.0//EN
CALSCALE:GREGORIAN
METHOD:PUBLISH
X-ORIGINAL-URL:https://ngb44.com
X-WR-CALDESC:Évènements pour Nantes Gigant Bad
REFRESH-INTERVAL;VALUE=DURATION:PT1H
X-Robots-Tag:noindex
X-PUBLISHED-TTL:PT1H
BEGIN:VTIMEZONE
TZID:Europe/Paris
BEGIN:DAYLIGHT
TZOFFSETFROM:+0100
TZOFFSETTO:+0200
TZNAME:CEST
DTSTART:20220327T010000
END:DAYLIGHT
BEGIN:STANDARD
TZOFFSETFROM:+0200
TZOFFSETTO:+0100
TZNAME:CET
DTSTART:20221030T010000
END:STANDARD
BEGIN:DAYLIGHT
TZOFFSETFROM:+0100
TZOFFSETTO:+0200
TZNAME:CEST
DTSTART:20230326T010000
END:DAYLIGHT
BEGIN:STANDARD
TZOFFSETFROM:+0200
TZOFFSETTO:+0100
TZNAME:CET
DTSTART:20231029T010000
END:STANDARD
BEGIN:DAYLIGHT
TZOFFSETFROM:+0100
TZOFFSETTO:+0200
TZNAME:CEST
DTSTART:20240331T010000
END:DAYLIGHT
BEGIN:STANDARD
TZOFFSETFROM:+0200
TZOFFSETTO:+0100
TZNAME:CET
DTSTART:20241027T010000
END:STANDARD
END:VTIMEZONE
BEGIN:VEVENT
DTSTART;TZID=Europe/Paris:20230505T000000
DTEND;TZID=Europe/Paris:20230505T000000
DTSTAMP:20260423T212716
CREATED:20251017T162320Z
LAST-MODIFIED:20251017T172106Z
UID:2098-1683244800-1683244800@ngb44.com
SUMMARY:ABC-3S vs NGB-2S
DESCRIPTION:
URL:https://ngb44.com/event/abc-3s-vs-ngb-2s/
CATEGORIES:NGB-2S
END:VEVENT
BEGIN:VEVENT
DTSTART;TZID=Europe/Paris:20230508T000000
DTEND;TZID=Europe/Paris:20230508T000000
DTSTAMP:20260423T212716
CREATED:20251017T162320Z
LAST-MODIFIED:20251017T172106Z
UID:2099-1683504000-1683504000@ngb44.com
SUMMARY:Férié – Fermé
DESCRIPTION:
URL:https://ngb44.com/event/ferie-ferme-4/
CATEGORIES:Gymnase indisponible
END:VEVENT
BEGIN:VEVENT
DTSTART;TZID=Europe/Paris:20230511T000000
DTEND;TZID=Europe/Paris:20230511T000000
DTSTAMP:20260423T212716
CREATED:20251017T162322Z
LAST-MODIFIED:20251017T172121Z
UID:2100-1683763200-1683763200@ngb44.com
SUMMARY:NGB-1H vs NGB-2H
DESCRIPTION:
URL:https://ngb44.com/event/ngb-1h-vs-ngb-2h/
CATEGORIES:NGB-1H
END:VEVENT
BEGIN:VEVENT
DTSTART;TZID=Europe/Paris:20230511T000000
DTEND;TZID=Europe/Paris:20230511T000000
DTSTAMP:20260423T212716
CREATED:20251017T162322Z
LAST-MODIFIED:20251017T172121Z
UID:2101-1683763200-1683763200@ngb44.com
SUMMARY:NGB-2H vs NGB-1H
DESCRIPTION:
URL:https://ngb44.com/event/ngb-2h-vs-ngb-1h/
CATEGORIES:NGB-2H
END:VEVENT
BEGIN:VEVENT
DTSTART;TZID=Europe/Paris:20230511T000000
DTEND;TZID=Europe/Paris:20230511T000000
DTSTAMP:20260423T212716
CREATED:20251017T162322Z
LAST-MODIFIED:20251017T172121Z
UID:2102-1683763200-1683763200@ngb44.com
SUMMARY:Réservé interclub
DESCRIPTION:
URL:https://ngb44.com/event/reserve-interclub-15/
CATEGORIES:Gymnase indisponible
END:VEVENT
BEGIN:VEVENT
DTSTART;TZID=Europe/Paris:20230512T000000
DTEND;TZID=Europe/Paris:20230512T000000
DTSTAMP:20260423T212716
CREATED:20251017T162322Z
LAST-MODIFIED:20251017T172121Z
UID:2103-1683849600-1683849600@ngb44.com
SUMMARY:DBBN-5S vs NGB-1S (Play-off 1/2)
DESCRIPTION:
URL:https://ngb44.com/event/dbbn-5s-vs-ngb-1s-play-off-1-2/
CATEGORIES:NGB-1S
END:VEVENT
BEGIN:VEVENT
DTSTART;TZID=Europe/Paris:20230518T000000
DTEND;TZID=Europe/Paris:20230518T000000
DTSTAMP:20260423T212716
CREATED:20251017T162323Z
LAST-MODIFIED:20251017T172121Z
UID:2104-1684368000-1684368000@ngb44.com
SUMMARY:Férié – Fermé
DESCRIPTION:
URL:https://ngb44.com/event/ferie-ferme-5/
CATEGORIES:Gymnase indisponible
END:VEVENT
BEGIN:VEVENT
DTSTART;TZID=Europe/Paris:20230529T000000
DTEND;TZID=Europe/Paris:20230529T000000
DTSTAMP:20260423T212716
CREATED:20251017T162330Z
LAST-MODIFIED:20251017T172136Z
UID:2105-1685318400-1685318400@ngb44.com
SUMMARY:Férié – Fermé
DESCRIPTION:
URL:https://ngb44.com/event/ferie-ferme-6/
CATEGORIES:Gymnase indisponible
END:VEVENT
END:VCALENDAR