BEGIN:VCALENDAR
VERSION:2.0
PRODID:-//Nantes Gigant Bad - ECPv6.15.20//NONSGML v1.0//EN
CALSCALE:GREGORIAN
METHOD:PUBLISH
X-WR-CALNAME:Nantes Gigant Bad
X-ORIGINAL-URL:https://ngb44.com
X-WR-CALDESC:Évènements pour Nantes Gigant Bad
REFRESH-INTERVAL;VALUE=DURATION:PT1H
X-Robots-Tag:noindex
X-PUBLISHED-TTL:PT1H
BEGIN:VTIMEZONE
TZID:Europe/Paris
BEGIN:DAYLIGHT
TZOFFSETFROM:+0100
TZOFFSETTO:+0200
TZNAME:CEST
DTSTART:20220327T010000
END:DAYLIGHT
BEGIN:STANDARD
TZOFFSETFROM:+0200
TZOFFSETTO:+0100
TZNAME:CET
DTSTART:20221030T010000
END:STANDARD
BEGIN:DAYLIGHT
TZOFFSETFROM:+0100
TZOFFSETTO:+0200
TZNAME:CEST
DTSTART:20230326T010000
END:DAYLIGHT
BEGIN:STANDARD
TZOFFSETFROM:+0200
TZOFFSETTO:+0100
TZNAME:CET
DTSTART:20231029T010000
END:STANDARD
BEGIN:DAYLIGHT
TZOFFSETFROM:+0100
TZOFFSETTO:+0200
TZNAME:CEST
DTSTART:20240331T010000
END:DAYLIGHT
BEGIN:STANDARD
TZOFFSETFROM:+0200
TZOFFSETTO:+0100
TZNAME:CET
DTSTART:20241027T010000
END:STANDARD
END:VTIMEZONE
BEGIN:VEVENT
DTSTART;TZID=Europe/Paris:20231012T193000
DTEND;TZID=Europe/Paris:20231012T200000
DTSTAMP:20260423T123423
CREATED:20251017T162349Z
LAST-MODIFIED:20251017T172206Z
UID:2118-1697139000-1697140800@ngb44.com
SUMMARY:AG élective
DESCRIPTION:Assemblée générale élective
URL:https://ngb44.com/event/ag-elective/
CATEGORIES:Info club
END:VEVENT
BEGIN:VEVENT
DTSTART;TZID=Europe/Paris:20231025T000000
DTEND;TZID=Europe/Paris:20231025T000000
DTSTAMP:20260423T123423
CREATED:20251017T162350Z
LAST-MODIFIED:20251017T172206Z
UID:2119-1698192000-1698192000@ngb44.com
SUMMARY:Gymnase fermé pdt les vacances
DESCRIPTION:
URL:https://ngb44.com/event/gymnase-ferme-pdt-les-vacances/
CATEGORIES:Gymnase indisponible
END:VEVENT
BEGIN:VEVENT
DTSTART;TZID=Europe/Paris:20231026T000000
DTEND;TZID=Europe/Paris:20231026T000000
DTSTAMP:20260423T123423
CREATED:20251017T162351Z
LAST-MODIFIED:20251017T172221Z
UID:2120-1698278400-1698278400@ngb44.com
SUMMARY:NGB-2S vs LATURBAD-1S
DESCRIPTION:
URL:https://ngb44.com/event/ngb-2s-vs-laturbad-1s/
CATEGORIES:NGB-2S
END:VEVENT
BEGIN:VEVENT
DTSTART;TZID=Europe/Paris:20231026T000000
DTEND;TZID=Europe/Paris:20231026T000000
DTSTAMP:20260423T123423
CREATED:20251017T162352Z
LAST-MODIFIED:20251017T172221Z
UID:2121-1698278400-1698278400@ngb44.com
SUMMARY:Réservé interclub
DESCRIPTION:
URL:https://ngb44.com/event/reserve-interclub-18/
CATEGORIES:Gymnase indisponible
END:VEVENT
END:VCALENDAR