BEGIN:VCALENDAR
VERSION:2.0
PRODID:-//Nantes Gigant Bad - ECPv6.15.20//NONSGML v1.0//EN
CALSCALE:GREGORIAN
METHOD:PUBLISH
X-ORIGINAL-URL:https://ngb44.com
X-WR-CALDESC:Évènements pour Nantes Gigant Bad
REFRESH-INTERVAL;VALUE=DURATION:PT1H
X-Robots-Tag:noindex
X-PUBLISHED-TTL:PT1H
BEGIN:VTIMEZONE
TZID:Europe/Paris
BEGIN:DAYLIGHT
TZOFFSETFROM:+0100
TZOFFSETTO:+0200
TZNAME:CEST
DTSTART:20220327T010000
END:DAYLIGHT
BEGIN:STANDARD
TZOFFSETFROM:+0200
TZOFFSETTO:+0100
TZNAME:CET
DTSTART:20221030T010000
END:STANDARD
BEGIN:DAYLIGHT
TZOFFSETFROM:+0100
TZOFFSETTO:+0200
TZNAME:CEST
DTSTART:20230326T010000
END:DAYLIGHT
BEGIN:STANDARD
TZOFFSETFROM:+0200
TZOFFSETTO:+0100
TZNAME:CET
DTSTART:20231029T010000
END:STANDARD
BEGIN:DAYLIGHT
TZOFFSETFROM:+0100
TZOFFSETTO:+0200
TZNAME:CEST
DTSTART:20240331T010000
END:DAYLIGHT
BEGIN:STANDARD
TZOFFSETFROM:+0200
TZOFFSETTO:+0100
TZNAME:CET
DTSTART:20241027T010000
END:STANDARD
END:VTIMEZONE
BEGIN:VEVENT
DTSTART;TZID=Europe/Paris:20231207T000000
DTEND;TZID=Europe/Paris:20231207T000000
DTSTAMP:20260423T090433
CREATED:20251017T162411Z
LAST-MODIFIED:20251017T172252Z
UID:2138-1701907200-1701907200@ngb44.com
SUMMARY:ESB-2S vs NGB-1S
DESCRIPTION:
URL:https://ngb44.com/event/esb-2s-vs-ngb-1s/
CATEGORIES:NGB-1S
END:VEVENT
BEGIN:VEVENT
DTSTART;TZID=Europe/Paris:20231214T000000
DTEND;TZID=Europe/Paris:20231214T000000
DTSTAMP:20260423T090433
CREATED:20251017T162412Z
LAST-MODIFIED:20251017T172252Z
UID:2139-1702512000-1702512000@ngb44.com
SUMMARY:NGB-1H vs BN-1H
DESCRIPTION:
URL:https://ngb44.com/event/ngb-1h-vs-bn-1h/
CATEGORIES:NGB-1H
END:VEVENT
BEGIN:VEVENT
DTSTART;TZID=Europe/Paris:20231214T000000
DTEND;TZID=Europe/Paris:20231214T000000
DTSTAMP:20260423T090433
CREATED:20251017T162422Z
LAST-MODIFIED:20251017T172306Z
UID:2140-1702512000-1702512000@ngb44.com
SUMMARY:Réservé interclub
DESCRIPTION:
URL:https://ngb44.com/event/reserve-interclub-22/
CATEGORIES:Gymnase indisponible
END:VEVENT
BEGIN:VEVENT
DTSTART;TZID=Europe/Paris:20231218T000000
DTEND;TZID=Europe/Paris:20231218T000000
DTSTAMP:20260423T090433
CREATED:20251017T162422Z
LAST-MODIFIED:20251017T172306Z
UID:2141-1702857600-1702857600@ngb44.com
SUMMARY:LLN-1H vs NGB-2H
DESCRIPTION:
URL:https://ngb44.com/event/lln-1h-vs-ngb-2h/
CATEGORIES:NGB-2H
END:VEVENT
BEGIN:VEVENT
DTSTART;TZID=Europe/Paris:20231219T000000
DTEND;TZID=Europe/Paris:20231219T000000
DTSTAMP:20260423T090433
CREATED:20251017T162422Z
LAST-MODIFIED:20251017T172306Z
UID:2142-1702944000-1702944000@ngb44.com
SUMMARY:NGB-2S vs ASJB-1S
DESCRIPTION:
URL:https://ngb44.com/event/ngb-2s-vs-asjb-1s/
CATEGORIES:NGB-2S
END:VEVENT
BEGIN:VEVENT
DTSTART;TZID=Europe/Paris:20231219T000000
DTEND;TZID=Europe/Paris:20231219T000000
DTSTAMP:20260423T090433
CREATED:20251017T162422Z
LAST-MODIFIED:20251017T172306Z
UID:2143-1702944000-1702944000@ngb44.com
SUMMARY:Réservé interclub
DESCRIPTION:
URL:https://ngb44.com/event/reserve-interclub-23/
CATEGORIES:Gymnase indisponible
END:VEVENT
BEGIN:VEVENT
DTSTART;TZID=Europe/Paris:20231225T000000
DTEND;TZID=Europe/Paris:20231225T000000
DTSTAMP:20260423T090433
CREATED:20251017T162423Z
LAST-MODIFIED:20251017T172321Z
UID:2144-1703462400-1703462400@ngb44.com
SUMMARY:Férié
DESCRIPTION:
URL:https://ngb44.com/event/ferie/
CATEGORIES:Gymnase indisponible
END:VEVENT
BEGIN:VEVENT
DTSTART;TZID=Europe/Paris:20231225T000000
DTEND;TZID=Europe/Paris:20231225T000000
DTSTAMP:20260423T090433
CREATED:20251017T162425Z
LAST-MODIFIED:20251017T172321Z
UID:2147-1703462400-1703462400@ngb44.com
SUMMARY:Gymnase fermé
DESCRIPTION:
URL:https://ngb44.com/event/gymnase-ferme-6/
CATEGORIES:Gymnase indisponible
END:VEVENT
BEGIN:VEVENT
DTSTART;TZID=Europe/Paris:20231226T000000
DTEND;TZID=Europe/Paris:20231226T000000
DTSTAMP:20260423T090433
CREATED:20251017T162425Z
LAST-MODIFIED:20251017T172321Z
UID:2148-1703548800-1703548800@ngb44.com
SUMMARY:Gymnase fermé
DESCRIPTION:
URL:https://ngb44.com/event/gymnase-ferme-7/
CATEGORIES:Gymnase indisponible
END:VEVENT
BEGIN:VEVENT
DTSTART;TZID=Europe/Paris:20231227T000000
DTEND;TZID=Europe/Paris:20231227T000000
DTSTAMP:20260423T090433
CREATED:20251017T162425Z
LAST-MODIFIED:20251017T172321Z
UID:2149-1703635200-1703635200@ngb44.com
SUMMARY:Gymnase fermé
DESCRIPTION:
URL:https://ngb44.com/event/gymnase-ferme-8/
CATEGORIES:Gymnase indisponible
END:VEVENT
BEGIN:VEVENT
DTSTART;TZID=Europe/Paris:20231228T000000
DTEND;TZID=Europe/Paris:20231228T000000
DTSTAMP:20260423T090433
CREATED:20251017T162428Z
LAST-MODIFIED:20251017T172323Z
UID:2150-1703721600-1703721600@ngb44.com
SUMMARY:Gymnase fermé
DESCRIPTION:
URL:https://ngb44.com/event/gymnase-ferme-9/
CATEGORIES:Gymnase indisponible
END:VEVENT
END:VCALENDAR