BEGIN:VCALENDAR
VERSION:2.0
PRODID:-//Nantes Gigant Bad - ECPv6.15.20//NONSGML v1.0//EN
CALSCALE:GREGORIAN
METHOD:PUBLISH
X-ORIGINAL-URL:https://ngb44.com
X-WR-CALDESC:Évènements pour Nantes Gigant Bad
REFRESH-INTERVAL;VALUE=DURATION:PT1H
X-Robots-Tag:noindex
X-PUBLISHED-TTL:PT1H
BEGIN:VTIMEZONE
TZID:Europe/Paris
BEGIN:DAYLIGHT
TZOFFSETFROM:+0100
TZOFFSETTO:+0200
TZNAME:CEST
DTSTART:20230326T010000
END:DAYLIGHT
BEGIN:STANDARD
TZOFFSETFROM:+0200
TZOFFSETTO:+0100
TZNAME:CET
DTSTART:20231029T010000
END:STANDARD
BEGIN:DAYLIGHT
TZOFFSETFROM:+0100
TZOFFSETTO:+0200
TZNAME:CEST
DTSTART:20240331T010000
END:DAYLIGHT
BEGIN:STANDARD
TZOFFSETFROM:+0200
TZOFFSETTO:+0100
TZNAME:CET
DTSTART:20241027T010000
END:STANDARD
BEGIN:DAYLIGHT
TZOFFSETFROM:+0100
TZOFFSETTO:+0200
TZNAME:CEST
DTSTART:20250330T010000
END:DAYLIGHT
BEGIN:STANDARD
TZOFFSETFROM:+0200
TZOFFSETTO:+0100
TZNAME:CET
DTSTART:20251026T010000
END:STANDARD
END:VTIMEZONE
BEGIN:VEVENT
DTSTART;TZID=Europe/Paris:20240205T000000
DTEND;TZID=Europe/Paris:20240205T000000
DTSTAMP:20260423T054324
CREATED:20251017T162443Z
LAST-MODIFIED:20251017T172345Z
UID:2160-1707091200-1707091200@ngb44.com
SUMMARY:BASL-2H vs NGB-1H
DESCRIPTION:
URL:https://ngb44.com/event/basl-2h-vs-ngb-1h/
CATEGORIES:NGB-1H
END:VEVENT
BEGIN:VEVENT
DTSTART;TZID=Europe/Paris:20240206T000000
DTEND;TZID=Europe/Paris:20240206T000000
DTSTAMP:20260423T054324
CREATED:20251017T162444Z
LAST-MODIFIED:20251017T172345Z
UID:2161-1707177600-1707177600@ngb44.com
SUMMARY:NGB-2S vs BCSH-4S
DESCRIPTION:
URL:https://ngb44.com/event/ngb-2s-vs-bcsh-4s/
CATEGORIES:NGB-2S
END:VEVENT
BEGIN:VEVENT
DTSTART;TZID=Europe/Paris:20240206T000000
DTEND;TZID=Europe/Paris:20240206T000000
DTSTAMP:20260423T054324
CREATED:20251017T162444Z
LAST-MODIFIED:20251017T172345Z
UID:2162-1707177600-1707177600@ngb44.com
SUMMARY:Réservé interclub
DESCRIPTION:
URL:https://ngb44.com/event/reserve-interclub-26/
CATEGORIES:Gymnase indisponible
END:VEVENT
BEGIN:VEVENT
DTSTART;TZID=Europe/Paris:20240208T000000
DTEND;TZID=Europe/Paris:20240208T000000
DTSTAMP:20260423T054324
CREATED:20251017T162444Z
LAST-MODIFIED:20251017T172345Z
UID:2163-1707350400-1707350400@ngb44.com
SUMMARY:LECLUB-2S vs NGB-1S
DESCRIPTION:
URL:https://ngb44.com/event/leclub-2s-vs-ngb-1s/
CATEGORIES:NGB-1S
END:VEVENT
BEGIN:VEVENT
DTSTART;TZID=Europe/Paris:20240215T000000
DTEND;TZID=Europe/Paris:20240215T000000
DTSTAMP:20260423T054324
CREATED:20251017T162445Z
LAST-MODIFIED:20251017T172345Z
UID:2164-1707955200-1707955200@ngb44.com
SUMMARY:NGB-2H vs ASJB-1H
DESCRIPTION:
URL:https://ngb44.com/event/ngb-2h-vs-asjb-1h/
CATEGORIES:NGB-2H
END:VEVENT
BEGIN:VEVENT
DTSTART;TZID=Europe/Paris:20240215T000000
DTEND;TZID=Europe/Paris:20240215T000000
DTSTAMP:20260423T054324
CREATED:20251017T162452Z
LAST-MODIFIED:20251017T172355Z
UID:2170-1707955200-1707955200@ngb44.com
SUMMARY:Réservé interclub
DESCRIPTION:
URL:https://ngb44.com/event/reserve-interclub-27/
CATEGORIES:Gymnase indisponible
END:VEVENT
BEGIN:VEVENT
DTSTART;TZID=Europe/Paris:20240220T000000
DTEND;TZID=Europe/Paris:20240220T000000
DTSTAMP:20260423T054324
CREATED:20251017T162452Z
LAST-MODIFIED:20251017T172355Z
UID:2171-1708387200-1708387200@ngb44.com
SUMMARY:ABS-3S vs NGB-2S
DESCRIPTION:
URL:https://ngb44.com/event/abs-3s-vs-ngb-2s/
CATEGORIES:NGB-2S
END:VEVENT
BEGIN:VEVENT
DTSTART;TZID=Europe/Paris:20240228T000000
DTEND;TZID=Europe/Paris:20240228T000000
DTSTAMP:20260423T054324
CREATED:20251017T162452Z
LAST-MODIFIED:20251017T172355Z
UID:2172-1709078400-1709078400@ngb44.com
SUMMARY:Gymnase fermé
DESCRIPTION:
URL:https://ngb44.com/event/gymnase-ferme-10/
CATEGORIES:Gymnase indisponible
END:VEVENT
END:VCALENDAR