BEGIN:VCALENDAR
VERSION:2.0
PRODID:-//Nantes Gigant Bad - ECPv6.15.20//NONSGML v1.0//EN
CALSCALE:GREGORIAN
METHOD:PUBLISH
X-ORIGINAL-URL:https://ngb44.com
X-WR-CALDESC:Évènements pour Nantes Gigant Bad
REFRESH-INTERVAL;VALUE=DURATION:PT1H
X-Robots-Tag:noindex
X-PUBLISHED-TTL:PT1H
BEGIN:VTIMEZONE
TZID:Europe/Paris
BEGIN:DAYLIGHT
TZOFFSETFROM:+0100
TZOFFSETTO:+0200
TZNAME:CEST
DTSTART:20230326T010000
END:DAYLIGHT
BEGIN:STANDARD
TZOFFSETFROM:+0200
TZOFFSETTO:+0100
TZNAME:CET
DTSTART:20231029T010000
END:STANDARD
BEGIN:DAYLIGHT
TZOFFSETFROM:+0100
TZOFFSETTO:+0200
TZNAME:CEST
DTSTART:20240331T010000
END:DAYLIGHT
BEGIN:STANDARD
TZOFFSETFROM:+0200
TZOFFSETTO:+0100
TZNAME:CET
DTSTART:20241027T010000
END:STANDARD
BEGIN:DAYLIGHT
TZOFFSETFROM:+0100
TZOFFSETTO:+0200
TZNAME:CEST
DTSTART:20250330T010000
END:DAYLIGHT
BEGIN:STANDARD
TZOFFSETFROM:+0200
TZOFFSETTO:+0100
TZNAME:CET
DTSTART:20251026T010000
END:STANDARD
END:VTIMEZONE
BEGIN:VEVENT
DTSTART;TZID=Europe/Paris:20240306T000000
DTEND;TZID=Europe/Paris:20240306T000000
DTSTAMP:20260423T035049
CREATED:20251017T162452Z
LAST-MODIFIED:20251017T172355Z
UID:2173-1709683200-1709683200@ngb44.com
SUMMARY:Gymnase fermé
DESCRIPTION:
URL:https://ngb44.com/event/gymnase-ferme-11/
CATEGORIES:Gymnase indisponible
END:VEVENT
BEGIN:VEVENT
DTSTART;TZID=Europe/Paris:20240314T000000
DTEND;TZID=Europe/Paris:20240314T000000
DTSTAMP:20260423T035049
CREATED:20251017T162453Z
LAST-MODIFIED:20251017T172355Z
UID:2174-1710374400-1710374400@ngb44.com
SUMMARY:NGB-1H VS B2S-1H
DESCRIPTION:
URL:https://ngb44.com/event/ngb-1h-vs-b2s-1h/
CATEGORIES:NGB-1H
END:VEVENT
BEGIN:VEVENT
DTSTART;TZID=Europe/Paris:20240314T000000
DTEND;TZID=Europe/Paris:20240314T000000
DTSTAMP:20260423T035049
CREATED:20251017T162502Z
LAST-MODIFIED:20251017T172405Z
UID:2175-1710374400-1710374400@ngb44.com
SUMMARY:NGB-2H VS ASBL-2H
DESCRIPTION:
URL:https://ngb44.com/event/ngb-2h-vs-asbl-2h/
END:VEVENT
BEGIN:VEVENT
DTSTART;TZID=Europe/Paris:20240314T000000
DTEND;TZID=Europe/Paris:20240314T000000
DTSTAMP:20260423T035049
CREATED:20251017T162502Z
LAST-MODIFIED:20251017T172405Z
UID:2176-1710374400-1710374400@ngb44.com
SUMMARY:Réservé interclub
DESCRIPTION:
URL:https://ngb44.com/event/reserve-interclub-28/
CATEGORIES:Gymnase indisponible
END:VEVENT
BEGIN:VEVENT
DTSTART;TZID=Europe/Paris:20240319T000000
DTEND;TZID=Europe/Paris:20240319T000000
DTSTAMP:20260423T035049
CREATED:20251017T162503Z
LAST-MODIFIED:20251017T172405Z
UID:2177-1710806400-1710806400@ngb44.com
SUMMARY:NGB-1S vs NAC-1S
DESCRIPTION:
URL:https://ngb44.com/event/ngb-1s-vs-nac-1s/
CATEGORIES:NGB-1S
END:VEVENT
BEGIN:VEVENT
DTSTART;TZID=Europe/Paris:20240319T000000
DTEND;TZID=Europe/Paris:20240319T000000
DTSTAMP:20260423T035049
CREATED:20251017T162503Z
LAST-MODIFIED:20251017T172405Z
UID:2178-1710806400-1710806400@ngb44.com
SUMMARY:Réservé interclub
DESCRIPTION:
URL:https://ngb44.com/event/reserve-interclub-29/
CATEGORIES:Gymnase indisponible
END:VEVENT
BEGIN:VEVENT
DTSTART;TZID=Europe/Paris:20240328T000000
DTEND;TZID=Europe/Paris:20240328T000000
DTSTAMP:20260423T035049
CREATED:20251017T162503Z
LAST-MODIFIED:20251017T172405Z
UID:2179-1711584000-1711584000@ngb44.com
SUMMARY:NGB-2S vs BCM-2S
DESCRIPTION:
URL:https://ngb44.com/event/ngb-2s-vs-bcm-2s-2/
CATEGORIES:NGB-2S
END:VEVENT
BEGIN:VEVENT
DTSTART;TZID=Europe/Paris:20240328T000000
DTEND;TZID=Europe/Paris:20240328T000000
DTSTAMP:20260423T035049
CREATED:20251017T162506Z
LAST-MODIFIED:20251017T172408Z
UID:2180-1711584000-1711584000@ngb44.com
SUMMARY:réservé interclub
DESCRIPTION:
URL:https://ngb44.com/event/reserve-interclub-30/
CATEGORIES:Gymnase indisponible
END:VEVENT
END:VCALENDAR