BEGIN:VCALENDAR
VERSION:2.0
PRODID:-//Nantes Gigant Bad - ECPv6.15.20//NONSGML v1.0//EN
CALSCALE:GREGORIAN
METHOD:PUBLISH
X-ORIGINAL-URL:https://ngb44.com
X-WR-CALDESC:Évènements pour Nantes Gigant Bad
REFRESH-INTERVAL;VALUE=DURATION:PT1H
X-Robots-Tag:noindex
X-PUBLISHED-TTL:PT1H
BEGIN:VTIMEZONE
TZID:Europe/Paris
BEGIN:DAYLIGHT
TZOFFSETFROM:+0100
TZOFFSETTO:+0200
TZNAME:CEST
DTSTART:20230326T010000
END:DAYLIGHT
BEGIN:STANDARD
TZOFFSETFROM:+0200
TZOFFSETTO:+0100
TZNAME:CET
DTSTART:20231029T010000
END:STANDARD
BEGIN:DAYLIGHT
TZOFFSETFROM:+0100
TZOFFSETTO:+0200
TZNAME:CEST
DTSTART:20240331T010000
END:DAYLIGHT
BEGIN:STANDARD
TZOFFSETFROM:+0200
TZOFFSETTO:+0100
TZNAME:CET
DTSTART:20241027T010000
END:STANDARD
BEGIN:DAYLIGHT
TZOFFSETFROM:+0100
TZOFFSETTO:+0200
TZNAME:CEST
DTSTART:20250330T010000
END:DAYLIGHT
BEGIN:STANDARD
TZOFFSETFROM:+0200
TZOFFSETTO:+0100
TZNAME:CET
DTSTART:20251026T010000
END:STANDARD
END:VTIMEZONE
BEGIN:VEVENT
DTSTART;TZID=Europe/Paris:20240507T000000
DTEND;TZID=Europe/Paris:20240507T000000
DTSTAMP:20260423T004139
CREATED:20251017T162518Z
LAST-MODIFIED:20251017T172411Z
UID:2185-1715040000-1715040000@ngb44.com
SUMMARY:NGB-1H VS BCC-1H
DESCRIPTION:
URL:https://ngb44.com/event/ngb-1h-vs-bcc-1h/
END:VEVENT
BEGIN:VEVENT
DTSTART;TZID=Europe/Paris:20240507T000000
DTEND;TZID=Europe/Paris:20240507T000000
DTSTAMP:20260423T004139
CREATED:20251017T162518Z
LAST-MODIFIED:20251017T172411Z
UID:2186-1715040000-1715040000@ngb44.com
SUMMARY:Réservé interclub
DESCRIPTION:
URL:https://ngb44.com/event/reserve-interclub-31/
CATEGORIES:Gymnase indisponible
END:VEVENT
BEGIN:VEVENT
DTSTART;TZID=Europe/Paris:20240509T000000
DTEND;TZID=Europe/Paris:20240509T000000
DTSTAMP:20260423T004139
CREATED:20251017T162519Z
LAST-MODIFIED:20251017T172411Z
UID:2187-1715212800-1715212800@ngb44.com
SUMMARY:Férié – Fermé
DESCRIPTION:
URL:https://ngb44.com/event/ferie-ferme-7/
CATEGORIES:Gymnase indisponible
END:VEVENT
BEGIN:VEVENT
DTSTART;TZID=Europe/Paris:20240515T000000
DTEND;TZID=Europe/Paris:20240515T000000
DTSTAMP:20260423T004139
CREATED:20251017T162519Z
LAST-MODIFIED:20251017T172411Z
UID:2188-1715731200-1715731200@ngb44.com
SUMMARY:Gymnase indispo : examens universitaires
DESCRIPTION:
URL:https://ngb44.com/event/gymnase-indispo-examens-universitaires/
CATEGORIES:Gymnase indisponible
END:VEVENT
BEGIN:VEVENT
DTSTART;TZID=Europe/Paris:20240516T000000
DTEND;TZID=Europe/Paris:20240516T000000
DTSTAMP:20260423T004139
CREATED:20251017T162519Z
LAST-MODIFIED:20251017T172412Z
UID:2189-1715817600-1715817600@ngb44.com
SUMMARY:NGB-2S vs FVVP-3S
DESCRIPTION:
URL:https://ngb44.com/event/ngb-2s-vs-fvvp-3s/
CATEGORIES:NGB-2S
END:VEVENT
BEGIN:VEVENT
DTSTART;TZID=Europe/Paris:20240516T000000
DTEND;TZID=Europe/Paris:20240516T000000
DTSTAMP:20260423T004139
CREATED:20251017T162521Z
LAST-MODIFIED:20251017T172426Z
UID:2195-1715817600-1715817600@ngb44.com
SUMMARY:Réservé interclub
DESCRIPTION:
URL:https://ngb44.com/event/reserve-interclub-32/
CATEGORIES:Gymnase indisponible
END:VEVENT
BEGIN:VEVENT
DTSTART;TZID=Europe/Paris:20240520T000000
DTEND;TZID=Europe/Paris:20240520T000000
DTSTAMP:20260423T004139
CREATED:20251017T162522Z
LAST-MODIFIED:20251017T172426Z
UID:2196-1716163200-1716163200@ngb44.com
SUMMARY:Férié – Fermé
DESCRIPTION:
URL:https://ngb44.com/event/ferie-ferme-8/
CATEGORIES:Gymnase indisponible
END:VEVENT
BEGIN:VEVENT
DTSTART;TZID=Europe/Paris:20240522T000000
DTEND;TZID=Europe/Paris:20240522T000000
DTSTAMP:20260423T004139
CREATED:20251017T162522Z
LAST-MODIFIED:20251017T172427Z
UID:2197-1716336000-1716336000@ngb44.com
SUMMARY:Gymnase indispo : examens universitaires
DESCRIPTION:
URL:https://ngb44.com/event/gymnase-indispo-examens-universitaires-2/
CATEGORIES:Gymnase indisponible
END:VEVENT
BEGIN:VEVENT
DTSTART;TZID=Europe/Paris:20240529T000000
DTEND;TZID=Europe/Paris:20240529T000000
DTSTAMP:20260423T004139
CREATED:20251017T162522Z
LAST-MODIFIED:20251017T172427Z
UID:2198-1716940800-1716940800@ngb44.com
SUMMARY:BCE-3S vs NGB-1S
DESCRIPTION:
URL:https://ngb44.com/event/bce-3s-vs-ngb-1s/
CATEGORIES:NGB-1S
END:VEVENT
BEGIN:VEVENT
DTSTART;TZID=Europe/Paris:20240529T000000
DTEND;TZID=Europe/Paris:20240529T000000
DTSTAMP:20260423T004139
CREATED:20251017T162522Z
LAST-MODIFIED:20251017T172427Z
UID:2199-1716940800-1716940800@ngb44.com
SUMMARY:Gymnase indispo : examens universitaires
DESCRIPTION:
URL:https://ngb44.com/event/gymnase-indispo-examens-universitaires-3/
CATEGORIES:Gymnase indisponible
END:VEVENT
END:VCALENDAR