BEGIN:VCALENDAR
VERSION:2.0
PRODID:-//Nantes Gigant Bad - ECPv6.15.20//NONSGML v1.0//EN
CALSCALE:GREGORIAN
METHOD:PUBLISH
X-WR-CALNAME:Nantes Gigant Bad
X-ORIGINAL-URL:https://ngb44.com
X-WR-CALDESC:Évènements pour Nantes Gigant Bad
REFRESH-INTERVAL;VALUE=DURATION:PT1H
X-Robots-Tag:noindex
X-PUBLISHED-TTL:PT1H
BEGIN:VTIMEZONE
TZID:Europe/Paris
BEGIN:DAYLIGHT
TZOFFSETFROM:+0100
TZOFFSETTO:+0200
TZNAME:CEST
DTSTART:20230326T010000
END:DAYLIGHT
BEGIN:STANDARD
TZOFFSETFROM:+0200
TZOFFSETTO:+0100
TZNAME:CET
DTSTART:20231029T010000
END:STANDARD
BEGIN:DAYLIGHT
TZOFFSETFROM:+0100
TZOFFSETTO:+0200
TZNAME:CEST
DTSTART:20240331T010000
END:DAYLIGHT
BEGIN:STANDARD
TZOFFSETFROM:+0200
TZOFFSETTO:+0100
TZNAME:CET
DTSTART:20241027T010000
END:STANDARD
BEGIN:DAYLIGHT
TZOFFSETFROM:+0100
TZOFFSETTO:+0200
TZNAME:CEST
DTSTART:20250330T010000
END:DAYLIGHT
BEGIN:STANDARD
TZOFFSETFROM:+0200
TZOFFSETTO:+0100
TZNAME:CET
DTSTART:20251026T010000
END:STANDARD
END:VTIMEZONE
BEGIN:VEVENT
DTSTART;TZID=Europe/Paris:20241203T000000
DTEND;TZID=Europe/Paris:20241203T000000
DTSTAMP:20260422T124412
CREATED:20251017T162625Z
LAST-MODIFIED:20251017T172529Z
UID:2225-1733184000-1733184000@ngb44.com
SUMMARY:NGB-1H VS ABC-1H
DESCRIPTION:
URL:https://ngb44.com/event/ngb-1h-vs-abc-1h/
CATEGORIES:NGB-1H
END:VEVENT
BEGIN:VEVENT
DTSTART;TZID=Europe/Paris:20241203T000000
DTEND;TZID=Europe/Paris:20241203T000000
DTSTAMP:20260422T124412
CREATED:20251017T162625Z
LAST-MODIFIED:20251017T172529Z
UID:2226-1733184000-1733184000@ngb44.com
SUMMARY:Réservé interclub
DESCRIPTION:
URL:https://ngb44.com/event/reserve-interclub-39/
CATEGORIES:Gymnase indisponible
END:VEVENT
BEGIN:VEVENT
DTSTART;TZID=Europe/Paris:20241208T131500
DTEND;TZID=Europe/Paris:20241208T190000
DTSTAMP:20260422T124412
CREATED:20251017T162625Z
LAST-MODIFIED:20251017T172529Z
UID:2227-1733663700-1733684400@ngb44.com
SUMMARY:Tournoi interne
DESCRIPTION:Le tournoi interne de Noël du club Gigant !\nn \n\nn \nIl se déroulera le dimanche 8 décembre 2024 à partir de 14h.\nn \n\nn \nQuelques précisions :\nn \nn \nn \nLe thème du tournoi étant Noël\, les déguisements sont acceptés (voire encouragés\, soyons funs) \nn \nLe tournoi se déroulant l’après-midi\, nous profiterons de l’événement pour partager un goûter donc chaque joueur est invité à apporter un petit quelque chose à manger à partager. A noter que le club se chargera d’offrir les boissons \nn \nLe début des matchs étant à 14h\, l’accueil des joueurs se fera entre 13h15 et 13h45 Merci de respecter cet horaire afin de faciliter au mieux l’organisation prévue par la commission NGB tournoi qui se fait un plaisir de lancer ce premier événement.\nn\nn \nToi aussi tu as hâte de participer à l’événement ? Alors inscris-toi et à bientôt sur les terrains.\nn \nn \n\nn \nPour t’inscrire c’est depuis l’annonce faite dans la communauté WhatsApp\, un évènement y a été créé\, sinon il y a le lien du formulaire dans le mail du 11 nov à 21h51.\nn \n\nn \nSportivement\,\nn \nLa commission tournoi NGB
URL:https://ngb44.com/event/tournoi-interne/
CATEGORIES:Info club
END:VEVENT
BEGIN:VEVENT
DTSTART;TZID=Europe/Paris:20241212T000000
DTEND;TZID=Europe/Paris:20241212T000000
DTSTAMP:20260422T124412
CREATED:20251017T162625Z
LAST-MODIFIED:20251017T172529Z
UID:2228-1733961600-1733961600@ngb44.com
SUMMARY:NGB-1H VS CBC-2H
DESCRIPTION:
URL:https://ngb44.com/event/ngb-1h-vs-cbc-2h/
CATEGORIES:NGB-1H
END:VEVENT
BEGIN:VEVENT
DTSTART;TZID=Europe/Paris:20241212T000000
DTEND;TZID=Europe/Paris:20241212T000000
DTSTAMP:20260422T124412
CREATED:20251017T162625Z
LAST-MODIFIED:20251017T172529Z
UID:2229-1733961600-1733961600@ngb44.com
SUMMARY:Réservé interclub
DESCRIPTION:
URL:https://ngb44.com/event/reserve-interclub-40/
CATEGORIES:Gymnase indisponible
END:VEVENT
BEGIN:VEVENT
DTSTART;TZID=Europe/Paris:20241216T000000
DTEND;TZID=Europe/Paris:20241216T000000
DTSTAMP:20260422T124412
CREATED:20251017T162637Z
LAST-MODIFIED:20251017T172539Z
UID:2230-1734307200-1734307200@ngb44.com
SUMMARY:ESB-1H VS NGB-2H
DESCRIPTION:
URL:https://ngb44.com/event/esb-1h-vs-ngb-2h/
CATEGORIES:NGB-2H
END:VEVENT
BEGIN:VEVENT
DTSTART;TZID=Europe/Paris:20241217T000000
DTEND;TZID=Europe/Paris:20241217T000000
DTSTAMP:20260422T124412
CREATED:20251017T162637Z
LAST-MODIFIED:20251017T172540Z
UID:2231-1734393600-1734393600@ngb44.com
SUMMARY:NGB-2S VS NECB44-2S
DESCRIPTION:
URL:https://ngb44.com/event/ngb-2s-vs-necb44-2s/
CATEGORIES:NGB-2S
END:VEVENT
BEGIN:VEVENT
DTSTART;TZID=Europe/Paris:20241217T000000
DTEND;TZID=Europe/Paris:20241217T000000
DTSTAMP:20260422T124412
CREATED:20251017T162637Z
LAST-MODIFIED:20251017T172540Z
UID:2232-1734393600-1734393600@ngb44.com
SUMMARY:Réservé interclub
DESCRIPTION:
URL:https://ngb44.com/event/reserve-interclub-41/
CATEGORIES:Gymnase indisponible
END:VEVENT
BEGIN:VEVENT
DTSTART;TZID=Europe/Paris:20241219T000000
DTEND;TZID=Europe/Paris:20241219T000000
DTSTAMP:20260422T124412
CREATED:20251017T162637Z
LAST-MODIFIED:20251017T172540Z
UID:2233-1734566400-1734566400@ngb44.com
SUMMARY:DBBN-4S VS NGB-1S
DESCRIPTION:
URL:https://ngb44.com/event/dbbn-4s-vs-ngb-1s/
CATEGORIES:NGB-1S
END:VEVENT
END:VCALENDAR