BEGIN:VCALENDAR
VERSION:2.0
PRODID:-//Nantes Gigant Bad - ECPv6.15.20//NONSGML v1.0//EN
CALSCALE:GREGORIAN
METHOD:PUBLISH
X-WR-CALNAME:Nantes Gigant Bad
X-ORIGINAL-URL:https://ngb44.com
X-WR-CALDESC:Évènements pour Nantes Gigant Bad
REFRESH-INTERVAL;VALUE=DURATION:PT1H
X-Robots-Tag:noindex
X-PUBLISHED-TTL:PT1H
BEGIN:VTIMEZONE
TZID:Europe/Paris
BEGIN:DAYLIGHT
TZOFFSETFROM:+0100
TZOFFSETTO:+0200
TZNAME:CEST
DTSTART:20240331T010000
END:DAYLIGHT
BEGIN:STANDARD
TZOFFSETFROM:+0200
TZOFFSETTO:+0100
TZNAME:CET
DTSTART:20241027T010000
END:STANDARD
BEGIN:DAYLIGHT
TZOFFSETFROM:+0100
TZOFFSETTO:+0200
TZNAME:CEST
DTSTART:20250330T010000
END:DAYLIGHT
BEGIN:STANDARD
TZOFFSETFROM:+0200
TZOFFSETTO:+0100
TZNAME:CET
DTSTART:20251026T010000
END:STANDARD
BEGIN:DAYLIGHT
TZOFFSETFROM:+0100
TZOFFSETTO:+0200
TZNAME:CEST
DTSTART:20260329T010000
END:DAYLIGHT
BEGIN:STANDARD
TZOFFSETFROM:+0200
TZOFFSETTO:+0100
TZNAME:CET
DTSTART:20261025T010000
END:STANDARD
END:VTIMEZONE
BEGIN:VEVENT
DTSTART;TZID=Europe/Paris:20250107T000000
DTEND;TZID=Europe/Paris:20250107T000000
DTSTAMP:20260422T104754
CREATED:20251017T162637Z
LAST-MODIFIED:20251017T172540Z
UID:2234-1736208000-1736208000@ngb44.com
SUMMARY:NECB-2H VS NGB-1H
DESCRIPTION:
URL:https://ngb44.com/event/necb-2h-vs-ngb-1h/
CATEGORIES:NGB-1H
END:VEVENT
BEGIN:VEVENT
DTSTART;TZID=Europe/Paris:20250107T000000
DTEND;TZID=Europe/Paris:20250107T000000
DTSTAMP:20260422T104754
CREATED:20251017T162642Z
LAST-MODIFIED:20251017T172549Z
UID:2235-1736208000-1736208000@ngb44.com
SUMMARY:NGB-2H VS BN-1H
DESCRIPTION:
URL:https://ngb44.com/event/ngb-2h-vs-bn-1h/
CATEGORIES:NGB-2H
END:VEVENT
BEGIN:VEVENT
DTSTART;TZID=Europe/Paris:20250107T000000
DTEND;TZID=Europe/Paris:20250107T000000
DTSTAMP:20260422T104754
CREATED:20251017T162642Z
LAST-MODIFIED:20251017T172549Z
UID:2236-1736208000-1736208000@ngb44.com
SUMMARY:Réservé interclub
DESCRIPTION:
URL:https://ngb44.com/event/reserve-interclub-42/
CATEGORIES:Gymnase indisponible
END:VEVENT
BEGIN:VEVENT
DTSTART;TZID=Europe/Paris:20250113T000000
DTEND;TZID=Europe/Paris:20250113T000000
DTSTAMP:20260422T104754
CREATED:20251017T162642Z
LAST-MODIFIED:20251017T172549Z
UID:2237-1736726400-1736726400@ngb44.com
SUMMARY:BC-2S VS NGB-2S
DESCRIPTION:
URL:https://ngb44.com/event/bc-2s-vs-ngb-2s/
CATEGORIES:NGB-2S
END:VEVENT
BEGIN:VEVENT
DTSTART;TZID=Europe/Paris:20250116T000000
DTEND;TZID=Europe/Paris:20250116T000000
DTSTAMP:20260422T104754
CREATED:20251017T162643Z
LAST-MODIFIED:20251017T172549Z
UID:2238-1736985600-1736985600@ngb44.com
SUMMARY:NGB-1S VS BCE-3S
DESCRIPTION:
URL:https://ngb44.com/event/ngb-1s-vs-bce-3s/
CATEGORIES:NGB-1S
END:VEVENT
BEGIN:VEVENT
DTSTART;TZID=Europe/Paris:20250116T000000
DTEND;TZID=Europe/Paris:20250116T000000
DTSTAMP:20260422T104754
CREATED:20251017T162643Z
LAST-MODIFIED:20251017T172549Z
UID:2239-1736985600-1736985600@ngb44.com
SUMMARY:Réservé interclub
DESCRIPTION:
URL:https://ngb44.com/event/reserve-interclub-43/
CATEGORIES:Gymnase indisponible
END:VEVENT
BEGIN:VEVENT
DTSTART;TZID=Europe/Paris:20250127T000000
DTEND;TZID=Europe/Paris:20250127T000000
DTSTAMP:20260422T104754
CREATED:20251017T162652Z
LAST-MODIFIED:20251017T172559Z
UID:2240-1737936000-1737936000@ngb44.com
SUMMARY:BN-2H VS NGB-1H
DESCRIPTION:
URL:https://ngb44.com/event/bn-2h-vs-ngb-1h/
END:VEVENT
BEGIN:VEVENT
DTSTART;TZID=Europe/Paris:20250130T000000
DTEND;TZID=Europe/Paris:20250130T000000
DTSTAMP:20260422T104754
CREATED:20251017T162652Z
LAST-MODIFIED:20251017T172559Z
UID:2241-1738195200-1738195200@ngb44.com
SUMMARY:NGB-2H VS B3C-1H
DESCRIPTION:
URL:https://ngb44.com/event/ngb-2h-vs-b3c-1h/
CATEGORIES:NGB-2H
END:VEVENT
BEGIN:VEVENT
DTSTART;TZID=Europe/Paris:20250130T000000
DTEND;TZID=Europe/Paris:20250130T000000
DTSTAMP:20260422T104754
CREATED:20251017T162652Z
LAST-MODIFIED:20251017T172559Z
UID:2242-1738195200-1738195200@ngb44.com
SUMMARY:Réservé interclub
DESCRIPTION:
URL:https://ngb44.com/event/reserve-interclub-44/
CATEGORIES:Gymnase indisponible
END:VEVENT
END:VCALENDAR