BEGIN:VCALENDAR
VERSION:2.0
PRODID:-//Nantes Gigant Bad - ECPv6.15.20//NONSGML v1.0//EN
CALSCALE:GREGORIAN
METHOD:PUBLISH
X-ORIGINAL-URL:https://ngb44.com
X-WR-CALDESC:Évènements pour Nantes Gigant Bad
REFRESH-INTERVAL;VALUE=DURATION:PT1H
X-Robots-Tag:noindex
X-PUBLISHED-TTL:PT1H
BEGIN:VTIMEZONE
TZID:Europe/Paris
BEGIN:DAYLIGHT
TZOFFSETFROM:+0100
TZOFFSETTO:+0200
TZNAME:CEST
DTSTART:20240331T010000
END:DAYLIGHT
BEGIN:STANDARD
TZOFFSETFROM:+0200
TZOFFSETTO:+0100
TZNAME:CET
DTSTART:20241027T010000
END:STANDARD
BEGIN:DAYLIGHT
TZOFFSETFROM:+0100
TZOFFSETTO:+0200
TZNAME:CEST
DTSTART:20250330T010000
END:DAYLIGHT
BEGIN:STANDARD
TZOFFSETFROM:+0200
TZOFFSETTO:+0100
TZNAME:CET
DTSTART:20251026T010000
END:STANDARD
BEGIN:DAYLIGHT
TZOFFSETFROM:+0100
TZOFFSETTO:+0200
TZNAME:CEST
DTSTART:20260329T010000
END:DAYLIGHT
BEGIN:STANDARD
TZOFFSETFROM:+0200
TZOFFSETTO:+0100
TZNAME:CET
DTSTART:20261025T010000
END:STANDARD
END:VTIMEZONE
BEGIN:VEVENT
DTSTART;TZID=Europe/Paris:20250304T000000
DTEND;TZID=Europe/Paris:20250304T000000
DTSTAMP:20260422T073135
CREATED:20251017T162659Z
LAST-MODIFIED:20251017T172609Z
UID:2246-1741046400-1741046400@ngb44.com
SUMMARY:NGB-1S VS ABC-1S
DESCRIPTION:
URL:https://ngb44.com/event/ngb-1s-vs-abc-1s/
CATEGORIES:NGB-1S
END:VEVENT
BEGIN:VEVENT
DTSTART;TZID=Europe/Paris:20250304T000000
DTEND;TZID=Europe/Paris:20250304T000000
DTSTAMP:20260422T073135
CREATED:20251017T162659Z
LAST-MODIFIED:20251017T172609Z
UID:2247-1741046400-1741046400@ngb44.com
SUMMARY:Réservé interclub
DESCRIPTION:
URL:https://ngb44.com/event/reserve-interclub-46/
CATEGORIES:Gymnase indisponible
END:VEVENT
BEGIN:VEVENT
DTSTART;TZID=Europe/Paris:20250306T000000
DTEND;TZID=Europe/Paris:20250306T000000
DTSTAMP:20260422T073135
CREATED:20251017T162659Z
LAST-MODIFIED:20251017T172609Z
UID:2248-1741219200-1741219200@ngb44.com
SUMMARY:LECLUB-4S VS NGB-2S
DESCRIPTION:
URL:https://ngb44.com/event/leclub-4s-vs-ngb-2s-2/
END:VEVENT
BEGIN:VEVENT
DTSTART;TZID=Europe/Paris:20250312T000000
DTEND;TZID=Europe/Paris:20250312T000000
DTSTAMP:20260422T073135
CREATED:20251017T162700Z
LAST-MODIFIED:20251017T172609Z
UID:2249-1741737600-1741737600@ngb44.com
SUMMARY:LATURBAD44-1H VS NGB-1H
DESCRIPTION:
URL:https://ngb44.com/event/laturbad44-1h-vs-ngb-1h/
CATEGORIES:NGB-1H
END:VEVENT
BEGIN:VEVENT
DTSTART;TZID=Europe/Paris:20250313T000000
DTEND;TZID=Europe/Paris:20250313T000000
DTSTAMP:20260422T073135
CREATED:20251017T162707Z
LAST-MODIFIED:20251017T172619Z
UID:2255-1741824000-1741824000@ngb44.com
SUMMARY:NGB-2H VS BS44-1H
DESCRIPTION:
URL:https://ngb44.com/event/ngb-2h-vs-bs44-1h/
CATEGORIES:NGB-2H
END:VEVENT
BEGIN:VEVENT
DTSTART;TZID=Europe/Paris:20250313T000000
DTEND;TZID=Europe/Paris:20250313T000000
DTSTAMP:20260422T073135
CREATED:20251017T162707Z
LAST-MODIFIED:20251017T172619Z
UID:2256-1741824000-1741824000@ngb44.com
SUMMARY:Réservé interclub
DESCRIPTION:
URL:https://ngb44.com/event/reserve-interclub-47/
CATEGORIES:Gymnase indisponible
END:VEVENT
END:VCALENDAR