BEGIN:VCALENDAR
VERSION:2.0
PRODID:-//Nantes Gigant Bad - ECPv6.15.20//NONSGML v1.0//EN
CALSCALE:GREGORIAN
METHOD:PUBLISH
X-WR-CALNAME:Nantes Gigant Bad
X-ORIGINAL-URL:https://ngb44.com
X-WR-CALDESC:Évènements pour Nantes Gigant Bad
REFRESH-INTERVAL;VALUE=DURATION:PT1H
X-Robots-Tag:noindex
X-PUBLISHED-TTL:PT1H
BEGIN:VTIMEZONE
TZID:Europe/Paris
BEGIN:DAYLIGHT
TZOFFSETFROM:+0100
TZOFFSETTO:+0200
TZNAME:CEST
DTSTART:20240331T010000
END:DAYLIGHT
BEGIN:STANDARD
TZOFFSETFROM:+0200
TZOFFSETTO:+0100
TZNAME:CET
DTSTART:20241027T010000
END:STANDARD
BEGIN:DAYLIGHT
TZOFFSETFROM:+0100
TZOFFSETTO:+0200
TZNAME:CEST
DTSTART:20250330T010000
END:DAYLIGHT
BEGIN:STANDARD
TZOFFSETFROM:+0200
TZOFFSETTO:+0100
TZNAME:CET
DTSTART:20251026T010000
END:STANDARD
BEGIN:DAYLIGHT
TZOFFSETFROM:+0100
TZOFFSETTO:+0200
TZNAME:CEST
DTSTART:20260329T010000
END:DAYLIGHT
BEGIN:STANDARD
TZOFFSETFROM:+0200
TZOFFSETTO:+0100
TZNAME:CET
DTSTART:20261025T010000
END:STANDARD
END:VTIMEZONE
BEGIN:VEVENT
DTSTART;TZID=Europe/Paris:20250403T000000
DTEND;TZID=Europe/Paris:20250403T000000
DTSTAMP:20260422T054924
CREATED:20251017T162716Z
LAST-MODIFIED:20251017T172629Z
UID:2261-1743638400-1743638400@ngb44.com
SUMMARY:Réservé interclub
DESCRIPTION:
URL:https://ngb44.com/event/reserve-interclub-49/
CATEGORIES:Gymnase indisponible
END:VEVENT
BEGIN:VEVENT
DTSTART;TZID=Europe/Paris:20250403T000000
DTEND;TZID=Europe/Paris:20250403T000000
DTSTAMP:20260422T054924
CREATED:20251017T162716Z
LAST-MODIFIED:20251017T172629Z
UID:2260-1743638400-1743638400@ngb44.com
SUMMARY:NGB-2S VS DBBN-9S
DESCRIPTION:
URL:https://ngb44.com/event/ngb-2s-vs-dbbn-9s/
CATEGORIES:NGB-2S
END:VEVENT
BEGIN:VEVENT
DTSTART;TZID=Europe/Paris:20250407T000000
DTEND;TZID=Europe/Paris:20250407T000000
DTSTAMP:20260422T054924
CREATED:20251017T162716Z
LAST-MODIFIED:20251017T172629Z
UID:2262-1743984000-1743984000@ngb44.com
SUMMARY:Gigant – 17h30-19h30 – horaires vacances
DESCRIPTION:
URL:https://ngb44.com/event/gigant-17h30-19h30-horaires-vacances/
CATEGORIES:Info club
END:VEVENT
BEGIN:VEVENT
DTSTART;TZID=Europe/Paris:20250408T000000
DTEND;TZID=Europe/Paris:20250408T000000
DTSTAMP:20260422T054924
CREATED:20251017T162717Z
LAST-MODIFIED:20251017T172629Z
UID:2263-1744070400-1744070400@ngb44.com
SUMMARY:Gigant – 17h30-19h30 – horaires vacances
DESCRIPTION:
URL:https://ngb44.com/event/gigant-17h30-19h30-horaires-vacances-2/
CATEGORIES:Info club
END:VEVENT
BEGIN:VEVENT
DTSTART;TZID=Europe/Paris:20250409T000000
DTEND;TZID=Europe/Paris:20250409T000000
DTSTAMP:20260422T054924
CREATED:20251017T162717Z
LAST-MODIFIED:20251017T172629Z
UID:2264-1744156800-1744156800@ngb44.com
SUMMARY:Stadium P. Quinon – Pas de créneau
DESCRIPTION:
URL:https://ngb44.com/event/stadium-p-quinon-pas-de-creneau/
CATEGORIES:Gymnase indisponible
END:VEVENT
BEGIN:VEVENT
DTSTART;TZID=Europe/Paris:20250410T000000
DTEND;TZID=Europe/Paris:20250410T000000
DTSTAMP:20260422T054924
CREATED:20251017T162720Z
LAST-MODIFIED:20251017T172640Z
UID:2265-1744243200-1744243200@ngb44.com
SUMMARY:Gigant – 17h30-19h30 – horaires vacances
DESCRIPTION:
URL:https://ngb44.com/event/gigant-17h30-19h30-horaires-vacances-3/
CATEGORIES:Info club
END:VEVENT
BEGIN:VEVENT
DTSTART;TZID=Europe/Paris:20250414T000000
DTEND;TZID=Europe/Paris:20250414T000000
DTSTAMP:20260422T054924
CREATED:20251017T162720Z
LAST-MODIFIED:20251017T172640Z
UID:2266-1744588800-1744588800@ngb44.com
SUMMARY:Gigant – 17h30-19h30 – horaires vacances
DESCRIPTION:
URL:https://ngb44.com/event/gigant-17h30-19h30-horaires-vacances-4/
CATEGORIES:Info club
END:VEVENT
BEGIN:VEVENT
DTSTART;TZID=Europe/Paris:20250415T000000
DTEND;TZID=Europe/Paris:20250415T000000
DTSTAMP:20260422T054924
CREATED:20251017T162721Z
LAST-MODIFIED:20251017T172640Z
UID:2268-1744675200-1744675200@ngb44.com
SUMMARY:Gigant – 17h30-19h30 – horaires vacances
DESCRIPTION:
URL:https://ngb44.com/event/gigant-17h30-19h30-horaires-vacances-5/
CATEGORIES:Info club
END:VEVENT
BEGIN:VEVENT
DTSTART;TZID=Europe/Paris:20250415T000000
DTEND;TZID=Europe/Paris:20250415T000000
DTSTAMP:20260422T054924
CREATED:20251017T162721Z
LAST-MODIFIED:20251017T172640Z
UID:2267-1744675200-1744675200@ngb44.com
SUMMARY:Chantenay – 18h-22h – Horaires vacances
DESCRIPTION:
URL:https://ngb44.com/event/chantenay-18h-22h-horaires-vacances/
CATEGORIES:Info club
END:VEVENT
BEGIN:VEVENT
DTSTART;TZID=Europe/Paris:20250416T000000
DTEND;TZID=Europe/Paris:20250416T000000
DTSTAMP:20260422T054924
CREATED:20251017T162721Z
LAST-MODIFIED:20251017T172640Z
UID:2269-1744761600-1744761600@ngb44.com
SUMMARY:Stadium P. Quinon – Pas de créneau
DESCRIPTION:
URL:https://ngb44.com/event/stadium-p-quinon-pas-de-creneau-2/
CATEGORIES:Gymnase indisponible
END:VEVENT
BEGIN:VEVENT
DTSTART;TZID=Europe/Paris:20250417T000000
DTEND;TZID=Europe/Paris:20250417T000000
DTSTAMP:20260422T054924
CREATED:20251017T162733Z
LAST-MODIFIED:20251017T172649Z
UID:2270-1744848000-1744848000@ngb44.com
SUMMARY:Chantenay – 18h-22h – Horaires vacances
DESCRIPTION:
URL:https://ngb44.com/event/chantenay-18h-22h-horaires-vacances-2/
CATEGORIES:Info club
END:VEVENT
BEGIN:VEVENT
DTSTART;TZID=Europe/Paris:20250417T000000
DTEND;TZID=Europe/Paris:20250417T000000
DTSTAMP:20260422T054924
CREATED:20251017T162733Z
LAST-MODIFIED:20251017T172649Z
UID:2271-1744848000-1744848000@ngb44.com
SUMMARY:Gigant – 17h30-19h30 – horaires vacances
DESCRIPTION:
URL:https://ngb44.com/event/gigant-17h30-19h30-horaires-vacances-6/
CATEGORIES:Info club
END:VEVENT
BEGIN:VEVENT
DTSTART;TZID=Europe/Paris:20250421T000000
DTEND;TZID=Europe/Paris:20250421T000000
DTSTAMP:20260422T054924
CREATED:20251017T162733Z
LAST-MODIFIED:20251017T172649Z
UID:2272-1745193600-1745193600@ngb44.com
SUMMARY:Férié – pas de créneau
DESCRIPTION:
URL:https://ngb44.com/event/ferie-pas-de-creneau/
CATEGORIES:Gymnase indisponible
END:VEVENT
BEGIN:VEVENT
DTSTART;TZID=Europe/Paris:20250424T000000
DTEND;TZID=Europe/Paris:20250424T000000
DTSTAMP:20260422T054924
CREATED:20251017T162733Z
LAST-MODIFIED:20251017T172649Z
UID:2273-1745452800-1745452800@ngb44.com
SUMMARY:NGB-1H VS BCC44-2H
DESCRIPTION:
URL:https://ngb44.com/event/ngb-1h-vs-bcc44-2h/
CATEGORIES:NGB-1H
END:VEVENT
BEGIN:VEVENT
DTSTART;TZID=Europe/Paris:20250424T000000
DTEND;TZID=Europe/Paris:20250424T000000
DTSTAMP:20260422T054924
CREATED:20251017T162734Z
LAST-MODIFIED:20251017T172649Z
UID:2274-1745452800-1745452800@ngb44.com
SUMMARY:Réservé interclub
DESCRIPTION:
URL:https://ngb44.com/event/reserve-interclub-50/
CATEGORIES:Gymnase indisponible
END:VEVENT
BEGIN:VEVENT
DTSTART;TZID=Europe/Paris:20250429T000000
DTEND;TZID=Europe/Paris:20250429T000000
DTSTAMP:20260422T054924
CREATED:20251017T162737Z
LAST-MODIFIED:20251017T172659Z
UID:2280-1745884800-1745884800@ngb44.com
SUMMARY:NGB-2H VS VS44-2H
DESCRIPTION:
URL:https://ngb44.com/event/ngb-2h-vs-vs44-2h/
CATEGORIES:NGB-2H
END:VEVENT
BEGIN:VEVENT
DTSTART;TZID=Europe/Paris:20250429T000000
DTEND;TZID=Europe/Paris:20250429T000000
DTSTAMP:20260422T054924
CREATED:20251017T162737Z
LAST-MODIFIED:20251017T172659Z
UID:2281-1745884800-1745884800@ngb44.com
SUMMARY:Réservé interclub
DESCRIPTION:
URL:https://ngb44.com/event/reserve-interclub-51/
CATEGORIES:Gymnase indisponible
END:VEVENT
END:VCALENDAR