BEGIN:VCALENDAR
VERSION:2.0
PRODID:-//Nantes Gigant Bad - ECPv6.15.20//NONSGML v1.0//EN
CALSCALE:GREGORIAN
METHOD:PUBLISH
X-WR-CALNAME:Nantes Gigant Bad
X-ORIGINAL-URL:https://ngb44.com
X-WR-CALDESC:Évènements pour Nantes Gigant Bad
REFRESH-INTERVAL;VALUE=DURATION:PT1H
X-Robots-Tag:noindex
X-PUBLISHED-TTL:PT1H
BEGIN:VTIMEZONE
TZID:Europe/Paris
BEGIN:DAYLIGHT
TZOFFSETFROM:+0100
TZOFFSETTO:+0200
TZNAME:CEST
DTSTART:20240331T010000
END:DAYLIGHT
BEGIN:STANDARD
TZOFFSETFROM:+0200
TZOFFSETTO:+0100
TZNAME:CET
DTSTART:20241027T010000
END:STANDARD
BEGIN:DAYLIGHT
TZOFFSETFROM:+0100
TZOFFSETTO:+0200
TZNAME:CEST
DTSTART:20250330T010000
END:DAYLIGHT
BEGIN:STANDARD
TZOFFSETFROM:+0200
TZOFFSETTO:+0100
TZNAME:CET
DTSTART:20251026T010000
END:STANDARD
BEGIN:DAYLIGHT
TZOFFSETFROM:+0100
TZOFFSETTO:+0200
TZNAME:CEST
DTSTART:20260329T010000
END:DAYLIGHT
BEGIN:STANDARD
TZOFFSETFROM:+0200
TZOFFSETTO:+0100
TZNAME:CET
DTSTART:20261025T010000
END:STANDARD
END:VTIMEZONE
BEGIN:VEVENT
DTSTART;TZID=Europe/Paris:20250604T000000
DTEND;TZID=Europe/Paris:20250604T000000
DTSTAMP:20260422T022306
CREATED:20251017T164252Z
LAST-MODIFIED:20251017T172719Z
UID:2366-1748995200-1748995200@ngb44.com
SUMMARY:BASL44-1H VS NGB-2H
DESCRIPTION:
URL:https://ngb44.com/event/basl44-1h-vs-ngb-2h/
CATEGORIES:NGB-2H
END:VEVENT
BEGIN:VEVENT
DTSTART;TZID=Europe/Paris:20250609T000000
DTEND;TZID=Europe/Paris:20250609T000000
DTSTAMP:20260422T022306
CREATED:20251017T164251Z
LAST-MODIFIED:20251017T172719Z
UID:2365-1749427200-1749427200@ngb44.com
SUMMARY:Férié – pas de créneau
DESCRIPTION:
URL:https://ngb44.com/event/ferie-pas-de-creneau-5/
CATEGORIES:Gymnase indisponible
END:VEVENT
BEGIN:VEVENT
DTSTART;TZID=Europe/Paris:20250612T000000
DTEND;TZID=Europe/Paris:20250612T000000
DTSTAMP:20260422T022306
CREATED:20251017T164251Z
LAST-MODIFIED:20251017T172719Z
UID:2364-1749686400-1749686400@ngb44.com
SUMMARY:ABC44-3H VS NGB-1H
DESCRIPTION:
URL:https://ngb44.com/event/abc44-3h-vs-ngb-1h/
CATEGORIES:NGB-1H
END:VEVENT
BEGIN:VEVENT
DTSTART;TZID=Europe/Paris:20250617T000000
DTEND;TZID=Europe/Paris:20250617T000000
DTSTAMP:20260422T022306
CREATED:20251017T164242Z
LAST-MODIFIED:20251017T172719Z
UID:2362-1750118400-1750118400@ngb44.com
SUMMARY:NGB-2H VS ABC44-1H
DESCRIPTION:
URL:https://ngb44.com/event/ngb-2h-vs-abc44-1h/
CATEGORIES:NGB-2H
END:VEVENT
BEGIN:VEVENT
DTSTART;TZID=Europe/Paris:20250617T000000
DTEND;TZID=Europe/Paris:20250617T000000
DTSTAMP:20260422T022306
CREATED:20251017T164242Z
LAST-MODIFIED:20251017T172719Z
UID:2363-1750118400-1750118400@ngb44.com
SUMMARY:Réservé interclub
DESCRIPTION:
URL:https://ngb44.com/event/reserve-interclub-68/
CATEGORIES:Gymnase indisponible
END:VEVENT
BEGIN:VEVENT
DTSTART;TZID=Europe/Paris:20250630T000000
DTEND;TZID=Europe/Paris:20250630T000000
DTSTAMP:20260422T022306
CREATED:20251017T164242Z
LAST-MODIFIED:20251017T172729Z
UID:2361-1751241600-1751241600@ngb44.com
SUMMARY:Pas de créneau
DESCRIPTION:
URL:https://ngb44.com/event/pas-de-creneau/
CATEGORIES:Gymnase indisponible
END:VEVENT
END:VCALENDAR