BEGIN:VCALENDAR
VERSION:2.0
PRODID:-//Nantes Gigant Bad - ECPv6.15.20//NONSGML v1.0//EN
CALSCALE:GREGORIAN
METHOD:PUBLISH
X-WR-CALNAME:Nantes Gigant Bad
X-ORIGINAL-URL:https://ngb44.com
X-WR-CALDESC:Évènements pour Nantes Gigant Bad
REFRESH-INTERVAL;VALUE=DURATION:PT1H
X-Robots-Tag:noindex
X-PUBLISHED-TTL:PT1H
BEGIN:VTIMEZONE
TZID:Europe/Paris
BEGIN:DAYLIGHT
TZOFFSETFROM:+0100
TZOFFSETTO:+0200
TZNAME:CEST
DTSTART:20240331T010000
END:DAYLIGHT
BEGIN:STANDARD
TZOFFSETFROM:+0200
TZOFFSETTO:+0100
TZNAME:CET
DTSTART:20241027T010000
END:STANDARD
BEGIN:DAYLIGHT
TZOFFSETFROM:+0100
TZOFFSETTO:+0200
TZNAME:CEST
DTSTART:20250330T010000
END:DAYLIGHT
BEGIN:STANDARD
TZOFFSETFROM:+0200
TZOFFSETTO:+0100
TZNAME:CET
DTSTART:20251026T010000
END:STANDARD
BEGIN:DAYLIGHT
TZOFFSETFROM:+0100
TZOFFSETTO:+0200
TZNAME:CEST
DTSTART:20260329T010000
END:DAYLIGHT
BEGIN:STANDARD
TZOFFSETFROM:+0200
TZOFFSETTO:+0100
TZNAME:CET
DTSTART:20261025T010000
END:STANDARD
END:VTIMEZONE
BEGIN:VEVENT
DTSTART;TZID=Europe/Paris:20250825T000000
DTEND;TZID=Europe/Paris:20250825T000000
DTSTAMP:20260421T230256
CREATED:20251017T164230Z
LAST-MODIFIED:20251017T172749Z
UID:2350-1756080000-1756080000@ngb44.com
SUMMARY:Créneau été gymnase Gigant 17h->22h
DESCRIPTION:
URL:https://ngb44.com/event/creneau-ete-gymnase-gigant-17h-22h-5/
CATEGORIES:Info club
END:VEVENT
BEGIN:VEVENT
DTSTART;TZID=Europe/Paris:20250826T000000
DTEND;TZID=Europe/Paris:20250826T000000
DTSTAMP:20260421T230256
CREATED:20251017T164230Z
LAST-MODIFIED:20251017T172749Z
UID:2349-1756166400-1756166400@ngb44.com
SUMMARY:Créneau été gymnase Gigant 17h->22h
DESCRIPTION:
URL:https://ngb44.com/event/creneau-ete-gymnase-gigant-17h-22h-4/
CATEGORIES:Info club
END:VEVENT
BEGIN:VEVENT
DTSTART;TZID=Europe/Paris:20250827T000000
DTEND;TZID=Europe/Paris:20250827T000000
DTSTAMP:20260421T230256
CREATED:20251017T164218Z
LAST-MODIFIED:20251017T172749Z
UID:2348-1756252800-1756252800@ngb44.com
SUMMARY:Créneau été gymnase Gigant 17h->22h
DESCRIPTION:
URL:https://ngb44.com/event/creneau-ete-gymnase-gigant-17h-22h-3/
CATEGORIES:Info club
END:VEVENT
BEGIN:VEVENT
DTSTART;TZID=Europe/Paris:20250828T000000
DTEND;TZID=Europe/Paris:20250828T000000
DTSTAMP:20260421T230256
CREATED:20251017T164217Z
LAST-MODIFIED:20251017T172749Z
UID:2347-1756339200-1756339200@ngb44.com
SUMMARY:Créneau été gymnase Gigant 17h->22h
DESCRIPTION:
URL:https://ngb44.com/event/creneau-ete-gymnase-gigant-17h-22h-2/
CATEGORIES:Info club
END:VEVENT
BEGIN:VEVENT
DTSTART;TZID=Europe/Paris:20250829T000000
DTEND;TZID=Europe/Paris:20250829T000000
DTSTAMP:20260421T230256
CREATED:20251017T164217Z
LAST-MODIFIED:20251017T172759Z
UID:2346-1756425600-1756425600@ngb44.com
SUMMARY:Créneau été gymnase Gigant 17h->22h
DESCRIPTION:
URL:https://ngb44.com/event/creneau-ete-gymnase-gigant-17h-22h/
CATEGORIES:Info club
END:VEVENT
END:VCALENDAR