BEGIN:VCALENDAR
VERSION:2.0
PRODID:-//Nantes Gigant Bad - ECPv6.15.20//NONSGML v1.0//EN
CALSCALE:GREGORIAN
METHOD:PUBLISH
X-ORIGINAL-URL:https://ngb44.com
X-WR-CALDESC:Évènements pour Nantes Gigant Bad
REFRESH-INTERVAL;VALUE=DURATION:PT1H
X-Robots-Tag:noindex
X-PUBLISHED-TTL:PT1H
BEGIN:VTIMEZONE
TZID:Europe/Paris
BEGIN:DAYLIGHT
TZOFFSETFROM:+0100
TZOFFSETTO:+0200
TZNAME:CEST
DTSTART:20240331T010000
END:DAYLIGHT
BEGIN:STANDARD
TZOFFSETFROM:+0200
TZOFFSETTO:+0100
TZNAME:CET
DTSTART:20241027T010000
END:STANDARD
BEGIN:DAYLIGHT
TZOFFSETFROM:+0100
TZOFFSETTO:+0200
TZNAME:CEST
DTSTART:20250330T010000
END:DAYLIGHT
BEGIN:STANDARD
TZOFFSETFROM:+0200
TZOFFSETTO:+0100
TZNAME:CET
DTSTART:20251026T010000
END:STANDARD
BEGIN:DAYLIGHT
TZOFFSETFROM:+0100
TZOFFSETTO:+0200
TZNAME:CEST
DTSTART:20260329T010000
END:DAYLIGHT
BEGIN:STANDARD
TZOFFSETFROM:+0200
TZOFFSETTO:+0100
TZNAME:CET
DTSTART:20261025T010000
END:STANDARD
END:VTIMEZONE
BEGIN:VEVENT
DTSTART;VALUE=DATE:20251106
DTEND;VALUE=DATE:20251107
DTSTAMP:20260421T180053
CREATED:20251017T164201Z
LAST-MODIFIED:20251029T123538Z
UID:2338-1762387200-1762473599@ngb44.com
SUMMARY:ASBR-4S vs NGB-1S
DESCRIPTION:
URL:https://ngb44.com/event/asbr-4s-vs-ngb-1s/
CATEGORIES:NGB-1S
END:VEVENT
BEGIN:VEVENT
DTSTART;VALUE=DATE:20251106
DTEND;VALUE=DATE:20251107
DTSTAMP:20260421T180053
CREATED:20251017T164207Z
LAST-MODIFIED:20251029T131156Z
UID:2339-1762387200-1762473599@ngb44.com
SUMMARY:NGB-1H vs AVT-2H
DESCRIPTION:
URL:https://ngb44.com/event/ngb-1h-vs-avt-2h/
CATEGORIES:NGB-1H
END:VEVENT
BEGIN:VEVENT
DTSTART;VALUE=DATE:20251106
DTEND;VALUE=DATE:20251107
DTSTAMP:20260421T180053
CREATED:20251017T164208Z
LAST-MODIFIED:20251017T173138Z
UID:2340-1762387200-1762473599@ngb44.com
SUMMARY:Réservé interclub
DESCRIPTION:
URL:https://ngb44.com/event/reserve-interclub-67/
CATEGORIES:Gymnase indisponible
END:VEVENT
BEGIN:VEVENT
DTSTART;VALUE=DATE:20251109
DTEND;VALUE=DATE:20251110
DTSTAMP:20260421T180053
CREATED:20251105T195259Z
LAST-MODIFIED:20251105T195545Z
UID:2931-1762646400-1762732799@ngb44.com
SUMMARY:Tournoi interne Badloween
DESCRIPTION:
URL:https://ngb44.com/event/tournoi-interne-badloween/
CATEGORIES:Info club
END:VEVENT
BEGIN:VEVENT
DTSTART;VALUE=DATE:20251109
DTEND;VALUE=DATE:20251110
DTSTAMP:20260421T180053
CREATED:20251107T212428Z
LAST-MODIFIED:20251107T212428Z
UID:2938-1762646400-1762732799@ngb44.com
SUMMARY:Pas de créneau dimanche matin
DESCRIPTION:En raison du tournoi interne organisé l’après-midi\, le créneau du dimanche matin ne sera pas ouvert.
URL:https://ngb44.com/event/pas-de-creneau-dimanche-matin/
CATEGORIES:Gymnase indisponible
END:VEVENT
BEGIN:VEVENT
DTSTART;VALUE=DATE:20251111
DTEND;VALUE=DATE:20251112
DTSTAMP:20260421T180053
CREATED:20251108T093448Z
LAST-MODIFIED:20251108T093448Z
UID:2940-1762819200-1762905599@ngb44.com
SUMMARY:Créneau habituel
DESCRIPTION:Férié mais créneau habituel maintenu.
URL:https://ngb44.com/event/creneau-habituel-3/
CATEGORIES:Info club
END:VEVENT
BEGIN:VEVENT
DTSTART;VALUE=DATE:20251114
DTEND;VALUE=DATE:20251115
DTSTAMP:20260421T180053
CREATED:20251017T164200Z
LAST-MODIFIED:20251017T173128Z
UID:2337-1763078400-1763164799@ngb44.com
SUMMARY:ABC-3S vs NGB-3S
DESCRIPTION:
URL:https://ngb44.com/event/abc-3s-vs-ngb-3s/
CATEGORIES:NGB-3S
END:VEVENT
BEGIN:VEVENT
DTSTART;VALUE=DATE:20251118
DTEND;VALUE=DATE:20251119
DTSTAMP:20260421T180053
CREATED:20251017T164159Z
LAST-MODIFIED:20251017T173124Z
UID:2335-1763424000-1763510399@ngb44.com
SUMMARY:NGB-1S vs ALBBG-2S
DESCRIPTION:
URL:https://ngb44.com/event/ngb-1s-vs-albbg-2s-2/
CATEGORIES:NGB-1S
END:VEVENT
BEGIN:VEVENT
DTSTART;VALUE=DATE:20251118
DTEND;VALUE=DATE:20251119
DTSTAMP:20260421T180053
CREATED:20251017T164200Z
LAST-MODIFIED:20251017T173120Z
UID:2336-1763424000-1763510399@ngb44.com
SUMMARY:Réservé interclub
DESCRIPTION:
URL:https://ngb44.com/event/reserve-interclub-66/
CATEGORIES:Gymnase indisponible
END:VEVENT
BEGIN:VEVENT
DTSTART;VALUE=DATE:20251120
DTEND;VALUE=DATE:20251121
DTSTAMP:20260421T180053
CREATED:20251017T164159Z
LAST-MODIFIED:20251017T173115Z
UID:2334-1763596800-1763683199@ngb44.com
SUMMARY:ASBG-2S vs NGB-3S
DESCRIPTION:
URL:https://ngb44.com/event/asbg-2s-vs-ngb-3s/
CATEGORIES:NGB-3S
END:VEVENT
BEGIN:VEVENT
DTSTART;VALUE=DATE:20251124
DTEND;VALUE=DATE:20251125
DTSTAMP:20260421T180053
CREATED:20251017T164144Z
LAST-MODIFIED:20251017T173111Z
UID:2331-1763942400-1764028799@ngb44.com
SUMMARY:BC-1H vs NGB-1H
DESCRIPTION:
URL:https://ngb44.com/event/bc-1h-vs-ngb-1h-2/
CATEGORIES:NGB-1H
END:VEVENT
BEGIN:VEVENT
DTSTART;VALUE=DATE:20251124
DTEND;VALUE=DATE:20251125
DTSTAMP:20260421T180053
CREATED:20251017T164145Z
LAST-MODIFIED:20251017T173104Z
UID:2332-1763942400-1764028799@ngb44.com
SUMMARY:NGB-2S vs BCM-2S
DESCRIPTION:
URL:https://ngb44.com/event/ngb-2s-vs-bcm-2s-3/
CATEGORIES:NGB-2S
END:VEVENT
BEGIN:VEVENT
DTSTART;VALUE=DATE:20251124
DTEND;VALUE=DATE:20251125
DTSTAMP:20260421T180053
CREATED:20251017T164145Z
LAST-MODIFIED:20251017T173108Z
UID:2333-1763942400-1764028799@ngb44.com
SUMMARY:Réservé interclub
DESCRIPTION:
URL:https://ngb44.com/event/reserve-interclub-65/
CATEGORIES:Gymnase indisponible
END:VEVENT
BEGIN:VEVENT
DTSTART;VALUE=DATE:20251127
DTEND;VALUE=DATE:20251128
DTSTAMP:20260421T180053
CREATED:20251118T175659Z
LAST-MODIFIED:20251118T175659Z
UID:2959-1764201600-1764287999@ngb44.com
SUMMARY:Apéro NGB
DESCRIPTION:Plus d’infos dans les mails ou sur la communauté WhatsApp
URL:https://ngb44.com/event/apero-ngb/
CATEGORIES:Info club
END:VEVENT
END:VCALENDAR