BEGIN:VCALENDAR
VERSION:2.0
PRODID:-//Nantes Gigant Bad - ECPv6.15.20//NONSGML v1.0//EN
CALSCALE:GREGORIAN
METHOD:PUBLISH
X-WR-CALNAME:Nantes Gigant Bad
X-ORIGINAL-URL:https://ngb44.com
X-WR-CALDESC:Évènements pour Nantes Gigant Bad
REFRESH-INTERVAL;VALUE=DURATION:PT1H
X-Robots-Tag:noindex
X-PUBLISHED-TTL:PT1H
BEGIN:VTIMEZONE
TZID:Europe/Paris
BEGIN:DAYLIGHT
TZOFFSETFROM:+0100
TZOFFSETTO:+0200
TZNAME:CEST
DTSTART:20250330T010000
END:DAYLIGHT
BEGIN:STANDARD
TZOFFSETFROM:+0200
TZOFFSETTO:+0100
TZNAME:CET
DTSTART:20251026T010000
END:STANDARD
BEGIN:DAYLIGHT
TZOFFSETFROM:+0100
TZOFFSETTO:+0200
TZNAME:CEST
DTSTART:20260329T010000
END:DAYLIGHT
BEGIN:STANDARD
TZOFFSETFROM:+0200
TZOFFSETTO:+0100
TZNAME:CET
DTSTART:20261025T010000
END:STANDARD
BEGIN:DAYLIGHT
TZOFFSETFROM:+0100
TZOFFSETTO:+0200
TZNAME:CEST
DTSTART:20270328T010000
END:DAYLIGHT
BEGIN:STANDARD
TZOFFSETFROM:+0200
TZOFFSETTO:+0100
TZNAME:CET
DTSTART:20271031T010000
END:STANDARD
END:VTIMEZONE
BEGIN:VEVENT
DTSTART;TZID=Europe/Paris:20260102T150000
DTEND;TZID=Europe/Paris:20260102T180000
DTSTAMP:20260421T142359
CREATED:20251202T194327Z
LAST-MODIFIED:20251202T195003Z
UID:2989-1767366000-1767376800@ngb44.com
SUMMARY:Créneau vacances Gigant 15h - 18h
DESCRIPTION:
URL:https://ngb44.com/event/creneau-vacances-gigant-15h-18h-3/
CATEGORIES:Info club
END:VEVENT
BEGIN:VEVENT
DTSTART;TZID=Europe/Paris:20260103T160000
DTEND;TZID=Europe/Paris:20260103T180000
DTSTAMP:20260421T142359
CREATED:20251202T194359Z
LAST-MODIFIED:20251202T195015Z
UID:2991-1767456000-1767463200@ngb44.com
SUMMARY:Créneau vacances Gigant 16h - 18h
DESCRIPTION:
URL:https://ngb44.com/event/creneau-vacances-gigant-16h-18h-3/
CATEGORIES:Info club
END:VEVENT
BEGIN:VEVENT
DTSTART;TZID=Europe/Paris:20260104T103000
DTEND;TZID=Europe/Paris:20260104T130000
DTSTAMP:20260421T142359
CREATED:20251202T194502Z
LAST-MODIFIED:20251203T084829Z
UID:2995-1767522600-1767531600@ngb44.com
SUMMARY:Créneau vacances Chantenay 10h30 - 13h
DESCRIPTION:
URL:https://ngb44.com/event/creneau-vacances-chantenay-1030-1300-2/
CATEGORIES:Info club
END:VEVENT
BEGIN:VEVENT
DTSTART;VALUE=DATE:20260106
DTEND;VALUE=DATE:20260107
DTSTAMP:20260421T142359
CREATED:20251017T164128Z
LAST-MODIFIED:20251017T172938Z
UID:2324-1767657600-1767743999@ngb44.com
SUMMARY:Réservé interclub
DESCRIPTION:
URL:https://ngb44.com/event/reserve-interclub-62/
CATEGORIES:Gymnase indisponible
END:VEVENT
BEGIN:VEVENT
DTSTART;VALUE=DATE:20260112
DTEND;VALUE=DATE:20260113
DTSTAMP:20260421T142359
CREATED:20251017T164113Z
LAST-MODIFIED:20251017T172924Z
UID:2320-1768176000-1768262399@ngb44.com
SUMMARY:NGB-1S vs BASL-1S
DESCRIPTION:
URL:https://ngb44.com/event/ngb-1s-vs-basl-1s/
CATEGORIES:NGB-1S
END:VEVENT
BEGIN:VEVENT
DTSTART;VALUE=DATE:20260112
DTEND;VALUE=DATE:20260113
DTSTAMP:20260421T142359
CREATED:20251017T164113Z
LAST-MODIFIED:20251017T172929Z
UID:2321-1768176000-1768262399@ngb44.com
SUMMARY:Réservé interclub
DESCRIPTION:
URL:https://ngb44.com/event/reserve-interclub-61/
CATEGORIES:Gymnase indisponible
END:VEVENT
BEGIN:VEVENT
DTSTART;VALUE=DATE:20260114
DTEND;VALUE=DATE:20260115
DTSTAMP:20260421T142359
CREATED:20251017T164114Z
LAST-MODIFIED:20260106T112518Z
UID:2322-1768348800-1768435199@ngb44.com
SUMMARY:BASL-6S vs NGB-3S
DESCRIPTION:
URL:https://ngb44.com/event/basl-6s-vs-ngb-3s/
CATEGORIES:NGB-3S
END:VEVENT
BEGIN:VEVENT
DTSTART;VALUE=DATE:20260115
DTEND;VALUE=DATE:20260116
DTSTAMP:20260421T142359
CREATED:20251017T164114Z
LAST-MODIFIED:20260115T081840Z
UID:2323-1768435200-1768521599@ngb44.com
SUMMARY:NGB-2S vs PBC-4S
DESCRIPTION:
URL:https://ngb44.com/event/ngb-2s-vs-pbc-4s/
CATEGORIES:NGB-2S
END:VEVENT
BEGIN:VEVENT
DTSTART;VALUE=DATE:20260116
DTEND;VALUE=DATE:20260117
DTSTAMP:20260421T142359
CREATED:20251017T164113Z
LAST-MODIFIED:20251017T172920Z
UID:2319-1768521600-1768607999@ngb44.com
SUMMARY:DBBN-1H vs NGB-1H
DESCRIPTION:
URL:https://ngb44.com/event/dbbn-1h-vs-ngb-1h-2/
CATEGORIES:NGB-1H
END:VEVENT
BEGIN:VEVENT
DTSTART;VALUE=DATE:20260121
DTEND;VALUE=DATE:20260122
DTSTAMP:20260421T142359
CREATED:20260119T173138Z
LAST-MODIFIED:20260119T173311Z
UID:3002-1768953600-1769039999@ngb44.com
SUMMARY:Stadium indisponible
DESCRIPTION:Stadium réquisitionné pour les examens courant janvier
URL:https://ngb44.com/event/gymnase-indisponible/
CATEGORIES:Gymnase indisponible
END:VEVENT
BEGIN:VEVENT
DTSTART;VALUE=DATE:20260122
DTEND;VALUE=DATE:20260123
DTSTAMP:20260421T142359
CREATED:20251017T164059Z
LAST-MODIFIED:20251017T173442Z
UID:2317-1769040000-1769126399@ngb44.com
SUMMARY:NGB-3S vs LECLUB-4S
DESCRIPTION:
URL:https://ngb44.com/event/ngb-3s-vs-leclub-4s/
CATEGORIES:NGB-3S
END:VEVENT
BEGIN:VEVENT
DTSTART;VALUE=DATE:20260122
DTEND;VALUE=DATE:20260123
DTSTAMP:20260421T142359
CREATED:20251017T164100Z
LAST-MODIFIED:20251017T173437Z
UID:2318-1769040000-1769126399@ngb44.com
SUMMARY:Réservé interclub
DESCRIPTION:
URL:https://ngb44.com/event/reserve-interclub-60/
CATEGORIES:Gymnase indisponible
END:VEVENT
BEGIN:VEVENT
DTSTART;VALUE=DATE:20260128
DTEND;VALUE=DATE:20260129
DTSTAMP:20260421T142359
CREATED:20260119T173514Z
LAST-MODIFIED:20260119T173514Z
UID:3006-1769558400-1769644799@ngb44.com
SUMMARY:Stadium indisponible
DESCRIPTION:Stadium réquisitionné pour les examens courant janvier
URL:https://ngb44.com/event/stadium-indisponible/
CATEGORIES:Gymnase indisponible
END:VEVENT
END:VCALENDAR